BEGIN:VCALENDAR
VERSION:2.0
PRODID:-//Marcounet - ECPv6.15.20//NONSGML v1.0//EN
CALSCALE:GREGORIAN
METHOD:PUBLISH
X-WR-CALNAME:Marcounet
X-ORIGINAL-URL:https://www.peniche-marcounet.fr
X-WR-CALDESC:Évènements pour Marcounet
REFRESH-INTERVAL;VALUE=DURATION:PT1H
X-Robots-Tag:noindex
X-PUBLISHED-TTL:PT1H
BEGIN:VTIMEZONE
TZID:Europe/Paris
BEGIN:DAYLIGHT
TZOFFSETFROM:+0100
TZOFFSETTO:+0200
TZNAME:CEST
DTSTART:20250330T010000
END:DAYLIGHT
BEGIN:STANDARD
TZOFFSETFROM:+0200
TZOFFSETTO:+0100
TZNAME:CET
DTSTART:20251026T010000
END:STANDARD
BEGIN:DAYLIGHT
TZOFFSETFROM:+0100
TZOFFSETTO:+0200
TZNAME:CEST
DTSTART:20260329T010000
END:DAYLIGHT
BEGIN:STANDARD
TZOFFSETFROM:+0200
TZOFFSETTO:+0100
TZNAME:CET
DTSTART:20261025T010000
END:STANDARD
BEGIN:DAYLIGHT
TZOFFSETFROM:+0100
TZOFFSETTO:+0200
TZNAME:CEST
DTSTART:20270328T010000
END:DAYLIGHT
BEGIN:STANDARD
TZOFFSETFROM:+0200
TZOFFSETTO:+0100
TZNAME:CET
DTSTART:20271031T010000
END:STANDARD
END:VTIMEZONE
BEGIN:VEVENT
DTSTART;TZID=Europe/Paris:20260705T150000
DTEND;TZID=Europe/Paris:20260705T210000
DTSTAMP:20260421T074211
CREATED:20260316T161352Z
LAST-MODIFIED:20260316T161516Z
UID:10000836-1783263600-1783285200@www.peniche-marcounet.fr
SUMMARY:BAL SWING
DESCRIPTION:Pour rester dans la tradition de l’été\, Le Marcounet et Social Swing Système vous propose du swing tous les dimanches à partir du 06 juillet. Au programme : danse endiablée et joie de vivre ! \n★★★ Programme ★★★ \n► 15h/18h : dj’s set avec Shorty\, Dany et jean-Louis.\n► 18h/21h : Claude Tissendier Live Band.\n★★★ Infos pratiques ★★★\n► Tarif : Gratuit\n► Lieu : Devant la péniche « le Marcounet » – Port des Célestins Au pied du Pont Marie – 75004 Paris\nMétro: Pont Marie ou Hôtel de Ville
URL:https://www.peniche-marcounet.fr/event/bal-swing-3/2026-07-05/
CATEGORIES:Concert gratuit en terrasse,Dance
ATTACH;FMTTYPE=image/jpeg:https://www.peniche-marcounet.fr/wp-content/uploads/2025/05/swing.jpg
END:VEVENT
BEGIN:VEVENT
DTSTART;TZID=Europe/Paris:20260712T150000
DTEND;TZID=Europe/Paris:20260712T210000
DTSTAMP:20260421T074211
CREATED:20260316T161352Z
LAST-MODIFIED:20260316T161516Z
UID:10000837-1783868400-1783890000@www.peniche-marcounet.fr
SUMMARY:BAL SWING
DESCRIPTION:Pour rester dans la tradition de l’été\, Le Marcounet et Social Swing Système vous propose du swing tous les dimanches à partir du 06 juillet. Au programme : danse endiablée et joie de vivre ! \n★★★ Programme ★★★ \n► 15h/18h : dj’s set avec Shorty\, Dany et jean-Louis.\n► 18h/21h : Claude Tissendier Live Band.\n★★★ Infos pratiques ★★★\n► Tarif : Gratuit\n► Lieu : Devant la péniche « le Marcounet » – Port des Célestins Au pied du Pont Marie – 75004 Paris\nMétro: Pont Marie ou Hôtel de Ville
URL:https://www.peniche-marcounet.fr/event/bal-swing-3/2026-07-12/
CATEGORIES:Concert gratuit en terrasse,Dance
ATTACH;FMTTYPE=image/jpeg:https://www.peniche-marcounet.fr/wp-content/uploads/2025/05/swing.jpg
END:VEVENT
BEGIN:VEVENT
DTSTART;TZID=Europe/Paris:20260719T150000
DTEND;TZID=Europe/Paris:20260719T210000
DTSTAMP:20260421T074211
CREATED:20260316T161352Z
LAST-MODIFIED:20260316T161516Z
UID:10000838-1784473200-1784494800@www.peniche-marcounet.fr
SUMMARY:BAL SWING
DESCRIPTION:Pour rester dans la tradition de l’été\, Le Marcounet et Social Swing Système vous propose du swing tous les dimanches à partir du 06 juillet. Au programme : danse endiablée et joie de vivre ! \n★★★ Programme ★★★ \n► 15h/18h : dj’s set avec Shorty\, Dany et jean-Louis.\n► 18h/21h : Claude Tissendier Live Band.\n★★★ Infos pratiques ★★★\n► Tarif : Gratuit\n► Lieu : Devant la péniche « le Marcounet » – Port des Célestins Au pied du Pont Marie – 75004 Paris\nMétro: Pont Marie ou Hôtel de Ville
URL:https://www.peniche-marcounet.fr/event/bal-swing-3/2026-07-19/
CATEGORIES:Concert gratuit en terrasse,Dance
ATTACH;FMTTYPE=image/jpeg:https://www.peniche-marcounet.fr/wp-content/uploads/2025/05/swing.jpg
END:VEVENT
BEGIN:VEVENT
DTSTART;TZID=Europe/Paris:20260726T150000
DTEND;TZID=Europe/Paris:20260726T210000
DTSTAMP:20260421T074211
CREATED:20260316T161352Z
LAST-MODIFIED:20260316T161516Z
UID:10000839-1785078000-1785099600@www.peniche-marcounet.fr
SUMMARY:BAL SWING
DESCRIPTION:Pour rester dans la tradition de l’été\, Le Marcounet et Social Swing Système vous propose du swing tous les dimanches à partir du 06 juillet. Au programme : danse endiablée et joie de vivre ! \n★★★ Programme ★★★ \n► 15h/18h : dj’s set avec Shorty\, Dany et jean-Louis.\n► 18h/21h : Claude Tissendier Live Band.\n★★★ Infos pratiques ★★★\n► Tarif : Gratuit\n► Lieu : Devant la péniche « le Marcounet » – Port des Célestins Au pied du Pont Marie – 75004 Paris\nMétro: Pont Marie ou Hôtel de Ville
URL:https://www.peniche-marcounet.fr/event/bal-swing-3/2026-07-26/
CATEGORIES:Concert gratuit en terrasse,Dance
ATTACH;FMTTYPE=image/jpeg:https://www.peniche-marcounet.fr/wp-content/uploads/2025/05/swing.jpg
END:VEVENT
BEGIN:VEVENT
DTSTART;TZID=Europe/Paris:20260802T150000
DTEND;TZID=Europe/Paris:20260802T210000
DTSTAMP:20260421T074211
CREATED:20260316T161352Z
LAST-MODIFIED:20260316T161516Z
UID:10000840-1785682800-1785704400@www.peniche-marcounet.fr
SUMMARY:BAL SWING
DESCRIPTION:Pour rester dans la tradition de l’été\, Le Marcounet et Social Swing Système vous propose du swing tous les dimanches à partir du 06 juillet. Au programme : danse endiablée et joie de vivre ! \n★★★ Programme ★★★ \n► 15h/18h : dj’s set avec Shorty\, Dany et jean-Louis.\n► 18h/21h : Claude Tissendier Live Band.\n★★★ Infos pratiques ★★★\n► Tarif : Gratuit\n► Lieu : Devant la péniche « le Marcounet » – Port des Célestins Au pied du Pont Marie – 75004 Paris\nMétro: Pont Marie ou Hôtel de Ville
URL:https://www.peniche-marcounet.fr/event/bal-swing-3/2026-08-02/
CATEGORIES:Concert gratuit en terrasse,Dance
ATTACH;FMTTYPE=image/jpeg:https://www.peniche-marcounet.fr/wp-content/uploads/2025/05/swing.jpg
END:VEVENT
BEGIN:VEVENT
DTSTART;TZID=Europe/Paris:20260809T150000
DTEND;TZID=Europe/Paris:20260809T210000
DTSTAMP:20260421T074211
CREATED:20260316T161352Z
LAST-MODIFIED:20260316T161516Z
UID:10000841-1786287600-1786309200@www.peniche-marcounet.fr
SUMMARY:BAL SWING
DESCRIPTION:Pour rester dans la tradition de l’été\, Le Marcounet et Social Swing Système vous propose du swing tous les dimanches à partir du 06 juillet. Au programme : danse endiablée et joie de vivre ! \n★★★ Programme ★★★ \n► 15h/18h : dj’s set avec Shorty\, Dany et jean-Louis.\n► 18h/21h : Claude Tissendier Live Band.\n★★★ Infos pratiques ★★★\n► Tarif : Gratuit\n► Lieu : Devant la péniche « le Marcounet » – Port des Célestins Au pied du Pont Marie – 75004 Paris\nMétro: Pont Marie ou Hôtel de Ville
URL:https://www.peniche-marcounet.fr/event/bal-swing-3/2026-08-09/
CATEGORIES:Concert gratuit en terrasse,Dance
ATTACH;FMTTYPE=image/jpeg:https://www.peniche-marcounet.fr/wp-content/uploads/2025/05/swing.jpg
END:VEVENT
BEGIN:VEVENT
DTSTART;TZID=Europe/Paris:20260816T150000
DTEND;TZID=Europe/Paris:20260816T210000
DTSTAMP:20260421T074211
CREATED:20260316T161352Z
LAST-MODIFIED:20260316T161516Z
UID:10000842-1786892400-1786914000@www.peniche-marcounet.fr
SUMMARY:BAL SWING
DESCRIPTION:Pour rester dans la tradition de l’été\, Le Marcounet et Social Swing Système vous propose du swing tous les dimanches à partir du 06 juillet. Au programme : danse endiablée et joie de vivre ! \n★★★ Programme ★★★ \n► 15h/18h : dj’s set avec Shorty\, Dany et jean-Louis.\n► 18h/21h : Claude Tissendier Live Band.\n★★★ Infos pratiques ★★★\n► Tarif : Gratuit\n► Lieu : Devant la péniche « le Marcounet » – Port des Célestins Au pied du Pont Marie – 75004 Paris\nMétro: Pont Marie ou Hôtel de Ville
URL:https://www.peniche-marcounet.fr/event/bal-swing-3/2026-08-16/
CATEGORIES:Concert gratuit en terrasse,Dance
ATTACH;FMTTYPE=image/jpeg:https://www.peniche-marcounet.fr/wp-content/uploads/2025/05/swing.jpg
END:VEVENT
BEGIN:VEVENT
DTSTART;TZID=Europe/Paris:20260823T150000
DTEND;TZID=Europe/Paris:20260823T210000
DTSTAMP:20260421T074211
CREATED:20260316T161352Z
LAST-MODIFIED:20260316T161516Z
UID:10000843-1787497200-1787518800@www.peniche-marcounet.fr
SUMMARY:BAL SWING
DESCRIPTION:Pour rester dans la tradition de l’été\, Le Marcounet et Social Swing Système vous propose du swing tous les dimanches à partir du 06 juillet. Au programme : danse endiablée et joie de vivre ! \n★★★ Programme ★★★ \n► 15h/18h : dj’s set avec Shorty\, Dany et jean-Louis.\n► 18h/21h : Claude Tissendier Live Band.\n★★★ Infos pratiques ★★★\n► Tarif : Gratuit\n► Lieu : Devant la péniche « le Marcounet » – Port des Célestins Au pied du Pont Marie – 75004 Paris\nMétro: Pont Marie ou Hôtel de Ville
URL:https://www.peniche-marcounet.fr/event/bal-swing-3/2026-08-23/
CATEGORIES:Concert gratuit en terrasse,Dance
ATTACH;FMTTYPE=image/jpeg:https://www.peniche-marcounet.fr/wp-content/uploads/2025/05/swing.jpg
END:VEVENT
BEGIN:VEVENT
DTSTART;TZID=Europe/Paris:20260830T150000
DTEND;TZID=Europe/Paris:20260830T210000
DTSTAMP:20260421T074211
CREATED:20260316T161352Z
LAST-MODIFIED:20260316T161516Z
UID:10000844-1788102000-1788123600@www.peniche-marcounet.fr
SUMMARY:BAL SWING
DESCRIPTION:Pour rester dans la tradition de l’été\, Le Marcounet et Social Swing Système vous propose du swing tous les dimanches à partir du 06 juillet. Au programme : danse endiablée et joie de vivre ! \n★★★ Programme ★★★ \n► 15h/18h : dj’s set avec Shorty\, Dany et jean-Louis.\n► 18h/21h : Claude Tissendier Live Band.\n★★★ Infos pratiques ★★★\n► Tarif : Gratuit\n► Lieu : Devant la péniche « le Marcounet » – Port des Célestins Au pied du Pont Marie – 75004 Paris\nMétro: Pont Marie ou Hôtel de Ville
URL:https://www.peniche-marcounet.fr/event/bal-swing-3/2026-08-30/
CATEGORIES:Concert gratuit en terrasse,Dance
ATTACH;FMTTYPE=image/jpeg:https://www.peniche-marcounet.fr/wp-content/uploads/2025/05/swing.jpg
END:VEVENT
END:VCALENDAR