BEGIN:VCALENDAR
VERSION:2.0
PRODID:-//Marcounet - ECPv6.15.20//NONSGML v1.0//EN
CALSCALE:GREGORIAN
METHOD:PUBLISH
X-ORIGINAL-URL:https://www.peniche-marcounet.fr
X-WR-CALDESC:Évènements pour Marcounet
REFRESH-INTERVAL;VALUE=DURATION:PT1H
X-Robots-Tag:noindex
X-PUBLISHED-TTL:PT1H
BEGIN:VTIMEZONE
TZID:Europe/Paris
BEGIN:DAYLIGHT
TZOFFSETFROM:+0100
TZOFFSETTO:+0200
TZNAME:CEST
DTSTART:20240331T010000
END:DAYLIGHT
BEGIN:STANDARD
TZOFFSETFROM:+0200
TZOFFSETTO:+0100
TZNAME:CET
DTSTART:20241027T010000
END:STANDARD
BEGIN:DAYLIGHT
TZOFFSETFROM:+0100
TZOFFSETTO:+0200
TZNAME:CEST
DTSTART:20250330T010000
END:DAYLIGHT
BEGIN:STANDARD
TZOFFSETFROM:+0200
TZOFFSETTO:+0100
TZNAME:CET
DTSTART:20251026T010000
END:STANDARD
BEGIN:DAYLIGHT
TZOFFSETFROM:+0100
TZOFFSETTO:+0200
TZNAME:CEST
DTSTART:20260329T010000
END:DAYLIGHT
BEGIN:STANDARD
TZOFFSETFROM:+0200
TZOFFSETTO:+0100
TZNAME:CET
DTSTART:20261025T010000
END:STANDARD
END:VTIMEZONE
BEGIN:VEVENT
DTSTART;TZID=Europe/Paris:20250711T210000
DTEND;TZID=Europe/Paris:20250712T020000
DTSTAMP:20260421T175610
CREATED:20250707T131905Z
LAST-MODIFIED:20250707T135959Z
UID:10000629-1752267600-1752285600@www.peniche-marcounet.fr
SUMMARY:Marcovitch invite Andreaty & Blothers
DESCRIPTION:🚨 Marcovitch Invite — Péniche Marcounet 🚨 \n📅 Vendredi 11 juillet 2025\n🕗 21h00 → 02h00\n📍 Péniche Marcounet — Port des Célestins\, Quai de l’Hôtel de Ville\, Paris 4ème\n🎟️ Préventes : 5€ (quantité limitée) \nMarcovitch Invite débarque sur la Seine pour une nuit électro en plein cœur de Paris ! 🌊\nÀ bord de la mythique Péniche Marcounet\, prépare-toi à un voyage sonore entre tech house\, indie dance\, UK bass et deep vibes.\nLe but ? Faire vibrer le dancefloor jusqu’au bout de la nuit ✨ \n🔥 LINE-UP :\n🎧 Marcovitch — Producteur et DJ au groove affûté\, maître de cérémonie de la soirée.\n🎧 Blothers — Duo fraternel aux basslines ravageuses et à l’énergie contagieuse.\n🎧 Andrëaty — Jeune talent de la scène parisienne au style élégant et instinctif. \nTrois univers\, une vision commune : faire danser Paris au rythme des basses et des mélodies qui tabassent 💥 \n  \n📍 Lieu :\n🚢 Péniche Marcounet\nPort des Célestins — 75004 Paris\n🚇 Métros : Pont Marie (L7)\, Hôtel de Ville (L1\, L11)\n💡 Péniche au bord de l’eau\, cadre ultra chill & dancefloor qui tangue au rythme du son. \n🎟️ Billetterie :\nPréventes à 5€ (quantité limitée) → ⚡ Ne tarde pas ! \n🔥 Ambiance garantie. Good vibes. Sunset sur la Seine. Musique qui fait bouger.\nTu montes à bord ? 🚀
URL:https://www.peniche-marcounet.fr/event/marcovitch-invite-andreaty-blothers/
CATEGORIES:House,Soirée Club,Tech house
ATTACH;FMTTYPE=image/jpeg:https://www.peniche-marcounet.fr/wp-content/uploads/2025/07/WhatsApp-Image-2025-07-07-at-14.12.41.jpeg
END:VEVENT
BEGIN:VEVENT
DTSTART;TZID=Europe/Paris:20250718T180000
DTEND;TZID=Europe/Paris:20250718T210000
DTSTAMP:20260421T175610
CREATED:20250708T122547Z
LAST-MODIFIED:20250708T122547Z
UID:10000630-1752861600-1752872400@www.peniche-marcounet.fr
SUMMARY:In Challah We Trust - 3ème édition
DESCRIPTION:🌙 IN CHALLAH WE TRUST #3 — VENDREDI 18 JUILLET — LE MARCOUNET 🌙\nDernière édition avant les vacances. Et pas des moindres. \nPour cette 3ᵉ et dernière In Challah We Trust de la saison\, on vous donne rendez-vous une nouvelle fois sur la péniche Marcounet\, pour une nuit de feu au bord de l’eau\, portée par une seule promesse : vibrer ensemble au son d’une musique électronique libre et généreuse. \n🎛 LINE-UP :\nCHALLAH · KRAMER · FAUREST · HAISTEN · ALY & ALEX \nUne ambiance toujours aussi solaire\, bienveillante et sans faux-semblants. \n📍 Le Marcounet — Quai de l’Hôtel de Ville\, Paris 4e\n🗓 Vendredi 18 juillet\n🕖 21h – 02h\n💸 Entrée : 5 € \n🪩 Venez dire au revoir à la saison comme il se doit.\nIn Challah We Trust\, c’est un souffle collectif\, un dancefloor sincère\, un cri d’amour électronique. \n✨ LE SON. LE CŒUR. LA SUEUR.
URL:https://www.peniche-marcounet.fr/event/in-challah-we-trust-3eme-edition/
CATEGORIES:French touch,House,Soirée Le Marcounet,Tech house
ATTACH;FMTTYPE=image/jpeg:https://www.peniche-marcounet.fr/wp-content/uploads/2025/07/WhatsApp-Image-2025-07-07-at-14.14.42.jpeg
END:VEVENT
END:VCALENDAR