BEGIN:VCALENDAR
VERSION:2.0
PRODID:-//Marcounet - ECPv6.15.20//NONSGML v1.0//EN
CALSCALE:GREGORIAN
METHOD:PUBLISH
X-WR-CALNAME:Marcounet
X-ORIGINAL-URL:https://www.peniche-marcounet.fr
X-WR-CALDESC:Évènements pour Marcounet
REFRESH-INTERVAL;VALUE=DURATION:PT1H
X-Robots-Tag:noindex
X-PUBLISHED-TTL:PT1H
BEGIN:VTIMEZONE
TZID:Europe/Paris
BEGIN:DAYLIGHT
TZOFFSETFROM:+0100
TZOFFSETTO:+0200
TZNAME:CEST
DTSTART:20240331T010000
END:DAYLIGHT
BEGIN:STANDARD
TZOFFSETFROM:+0200
TZOFFSETTO:+0100
TZNAME:CET
DTSTART:20241027T010000
END:STANDARD
BEGIN:DAYLIGHT
TZOFFSETFROM:+0100
TZOFFSETTO:+0200
TZNAME:CEST
DTSTART:20250330T010000
END:DAYLIGHT
BEGIN:STANDARD
TZOFFSETFROM:+0200
TZOFFSETTO:+0100
TZNAME:CET
DTSTART:20251026T010000
END:STANDARD
BEGIN:DAYLIGHT
TZOFFSETFROM:+0100
TZOFFSETTO:+0200
TZNAME:CEST
DTSTART:20260329T010000
END:DAYLIGHT
BEGIN:STANDARD
TZOFFSETFROM:+0200
TZOFFSETTO:+0100
TZNAME:CET
DTSTART:20261025T010000
END:STANDARD
END:VTIMEZONE
BEGIN:VEVENT
DTSTART;TZID=Europe/Paris:20250314T223000
DTEND;TZID=Europe/Paris:20250315T020000
DTSTAMP:20260419T152321
CREATED:20250303T141339Z
LAST-MODIFIED:20250306T105255Z
UID:10000455-1741991400-1742004000@www.peniche-marcounet.fr
SUMMARY:Open platines anniversary
DESCRIPTION:— Entrée libre — \nCe samedi au Marcounet nous célébrons la musique éléctronique libre ! Pour ce faire\, nous laissons aux djs volontaires le champs libre aux platines ! Venez exprimer ouvertement votre créativité musicale et faire découvrir vos meilleures pépites sonores ! Pour les plus techniques d’entres vous\, nous mixerons sur une Pioneer Opus Quad. À vos clés mesdames et messieurs !
URL:https://www.peniche-marcounet.fr/event/open-platines-anniversary/
CATEGORIES:Soirée Club,Soirée gratuite
ATTACH;FMTTYPE=image/png:https://www.peniche-marcounet.fr/wp-content/uploads/2025/03/STORY-CONCERT.png
END:VEVENT
BEGIN:VEVENT
DTSTART;TZID=Europe/Paris:20250320T203000
DTEND;TZID=Europe/Paris:20250321T010000
DTSTAMP:20260419T152321
CREATED:20250307T103632Z
LAST-MODIFIED:20250307T155110Z
UID:10000462-1742502600-1742518800@www.peniche-marcounet.fr
SUMMARY:Lo-fi on Seine
DESCRIPTION:Entrée libre 🙂\nUne fois n’est pas coutume\, le gratin de la Lo-fi française revient sur la péniche Marcounet pour le rendez-vous préféré des chill guys 🌻 \nAu programme : \nTOHAJ \nTohaj est un beatmaker de lofi hip hop originaire de la Réunion. \nSon style doux et aérien mélange différentes sonorités entre sampling et composition.\nAprès plusieurs EP et albums\, son dernier single paru en février  « A Place I Know » est un morceau évoquant les joies du retour aux sources et de l’enfance.\nLabels : Hip Dozer\, Blunt Shelter Records\, Retro Jungle\, Chillhop Records\, HHV.\nInstagram : https://www.instagram.com/tohaj.beats?igsh=Mzg2eGU2eTRmNjg1\nANNAWAK :\nOriginaire des montagnes reculées entre la France\, l’Italie et la Suisse\, la musique d’Annawak reflète la tranquillité et le paysage de leur pays d’origine. Passionnés très tôt par la musique de Duke Ellington\, John Coltrane et Bobby Caldwell\, les Annawak\, de leur vrai nom Valentin Cavanna\, ont trouvé leur voix grâce au saxophone\, un motif de leur musique qui est toujours présent et immédiatement reconnaissable. Ayant déménagé à Paris au début de la vingtaine\, ils ont combiné leur amour des instruments live et de la production musicale à Abbey Road Paris – étudiant pendant 3 ans avec certains des ingénieurs et professionnels de la musique les plus réputés de France. Aujourd’hui\, Annawak propose un son instrumental Lo-Fi Beats doux et groovy. La combinaison de Jazz et de Hip-Hop des années 90 transporte les auditeurs dans un royaume haut dans les nuages\, où la nature s’apaise et les mélodies s’entrelacent.\nInstagram : https://www.instagram.com/annawak_records \nBAROTO :\nBaroto est un producteur parisien\,\nSon style de prédilection est le Lofi hip hop inspiré des rythmiques du hiphop des années 90 mélangé à ses influences Jazz et Soul. Son dernier single « Marina » est disponible sur toutes les plateformes.\nInstagram : https://www.instagram.com/baroto.prod/ \nDIIOLME :\nDiiolme est un artiste et beatmaker franco-suisse basé à Paris.\nGuitariste de formation\, né dans une famille mélomane\, il se lance dans le beatmaking et la Lo-Fi en 2020\, composant ses premiers morceaux dans sa chambre. Il signe rapidement avec différents labels de la communauté.\nAujourd’hui\, davantage tourné vers le Chillhop\, il accorde une grande importance au groove et aux mélodies\, s’inspirant des musiques de film et du cinéma\, un domaine dans lequel il travaille en tant qu’ingénieur du son.\nInstagram : https://www.instagram.com/diiolme \nEOLO ANDINO :\nNé à Vitoria-Gasteiz en 1998\, musicien et saxophoniste par vocation\, il commence sa formation très jeune au conservatoire classique\, mais opte rapidement pour le jazz et les musiques actuelles. Il poursuit ses études au Conservatoire Supérieur du Pays Basque\, MUSIKENE\, en se spécialisant dans le saxophone jazz avec le professeur Mikel Andueza et\, en 2020\, il est admis au CNSMDP dans le programme de Master\, sous la direction de Riccardo Del Fra. Il termine le Master en juin 2022 et commence à travailler dans le monde du théâtre avec Édouard Baer. Sur scène depuis son plus jeune âge\, il a participé à de nombreux festivals de jazz (Vitoria-Gasteiz\, Jazzaldia Donostia\, Getxo Jazz\, Ondas de Jazz\, BBK Jazz\, Medina del Campo\, etc.)\, tout en étant présent sur la scène HipHop\, (première partie de Trueno organisée par le Vitoria Jazz Festival) et a joué dans de nombreux clubs à Paris\, où il vit actuellement. Il a reçu des prix tels que la bourse « Igartza Música »\, le prix « IMPULSO » à la X Muestra BBK Jazz\, et quatre premiers prix au concours « Jóvenes Músicos del País Vasco ». Il travaille actuellement dur pour mener à bien ses projets\, en se concentrant sur la composition\, la production et la fusion de la musique acoustique (instruments et ensembles) et du monde électronique.\nInstagram : https://www.instagram.com/eoloandino?igsh=MWoyMjNtNG9sa3Jtaw== \nCHARLY BROWN :\nBeatmaker aguerri et digger passionné de sample sur vinyle poussiéreux.\nInstagram : https://www.instagram.com/just_charly_brown \nTSY \nBeatmaker et DJ parisien\, tsy produit des instrumentales Lo-Fi boom bap depuis plus de 3 ans maintenant. Son approche du sampling s’inspire du hip hop des annnées 90 et début 2000\, utilisant uniquement du hardware pour produire. Tirant son influence de groupe comme A Tribe Called Quest ou Little Brother aussi bien que de producteurs comme The Alchemist ou Conductor Williams\, il se produit plusieurs fois sur scène à Paris mais aussi à Genève pour le Lo-Fi festival en 2024. Il collabore également depuis 2023 avec le rappeur montpellierain Skitt\, avec qui il sort début 2024 l’EP Jurassic Pack.\nInstagram : https://www.instagram.com/tsy.snd/ \n📸 @morvnt
URL:https://www.peniche-marcounet.fr/event/lo-fi-on-seine/
CATEGORIES:Lo-Fi,Soirée gratuite
ATTACH;FMTTYPE=image/png:https://www.peniche-marcounet.fr/wp-content/uploads/2025/03/20.03-2.png
END:VEVENT
END:VCALENDAR