BEGIN:VCALENDAR
VERSION:2.0
PRODID:-//Marcounet - ECPv6.15.20//NONSGML v1.0//EN
CALSCALE:GREGORIAN
METHOD:PUBLISH
X-WR-CALNAME:Marcounet
X-ORIGINAL-URL:https://www.peniche-marcounet.fr
X-WR-CALDESC:Évènements pour Marcounet
REFRESH-INTERVAL;VALUE=DURATION:PT1H
X-Robots-Tag:noindex
X-PUBLISHED-TTL:PT1H
BEGIN:VTIMEZONE
TZID:Europe/Paris
BEGIN:DAYLIGHT
TZOFFSETFROM:+0100
TZOFFSETTO:+0200
TZNAME:CEST
DTSTART:20250330T010000
END:DAYLIGHT
BEGIN:STANDARD
TZOFFSETFROM:+0200
TZOFFSETTO:+0100
TZNAME:CET
DTSTART:20251026T010000
END:STANDARD
BEGIN:DAYLIGHT
TZOFFSETFROM:+0100
TZOFFSETTO:+0200
TZNAME:CEST
DTSTART:20260329T010000
END:DAYLIGHT
BEGIN:STANDARD
TZOFFSETFROM:+0200
TZOFFSETTO:+0100
TZNAME:CET
DTSTART:20261025T010000
END:STANDARD
BEGIN:DAYLIGHT
TZOFFSETFROM:+0100
TZOFFSETTO:+0200
TZNAME:CEST
DTSTART:20270328T010000
END:DAYLIGHT
BEGIN:STANDARD
TZOFFSETFROM:+0200
TZOFFSETTO:+0100
TZNAME:CET
DTSTART:20271031T010000
END:STANDARD
END:VTIMEZONE
BEGIN:VEVENT
DTSTART;TZID=Europe/Paris:20260115T200000
DTEND;TZID=Europe/Paris:20260115T220000
DTSTAMP:20260419T150703
CREATED:20260106T153849Z
LAST-MODIFIED:20260106T154327Z
UID:10000771-1768507200-1768514400@www.peniche-marcounet.fr
SUMMARY:The Shazzams
DESCRIPTION:Rock pop punk\, avec une touche de garage\, tel est le style hybride des The Shazzams. Avant de créer le groupe\, le chanteur/compositeur américain Justin Houser\, dandy du rock’n’ roll \, se plonge dans les scènes rock et blues d’Atlanta\, en Géorgie\, et apprend son métier en jouant dans des lieu emblématiques tels que The Northside Tavern\, The Earl\, The Dark Horse. \nAprès être installé en France au milieu des années 2000\, il fonde The Shazzams avec le bassiste Stephen Harrison\, une figure importante de la scène britannique et française\, qui a partagé la scène The Pogues\, Pink Martini\, among others L’extraordinaire guitariste Raphaël Dumas les rejoint et en suite le batteur fabuleux Jeremy Lainé et The Shazzams est ainsi né. \n Le groupe commence à créer son mélange unique de musique « new rock-garage-punk pop» atmosphérique\, influencé par des artistes tels que The Violent Femmes\, The Kinks\, Tom Waits\,Talking Heads\, and Gun Club en citer que quelques-uns.Depuis\, ils jouent sans relâche à travers la France et l’Europe\, offrant chaque soir des concerts à la énergie débordante. \nJustin Houser-vocals/guitare acoustique \nRaphael Dumas-guitare electrique \nJeremy Lainé-batterie \nStephen Harrison-basse \n12 sur place \nConcert debout Hard Rock Heavy Rock indie pop punk Rock Stoner Electronique \n\n	\n\n		\n		\n		\n\n		\n\n		\n\n\n\n	Billets\n\n		\n	\n	\n		Les numéros ci-dessous incluent les billets pour cet événement déjà dans votre panier. En cliquant sur «Obtenir des billets»\, vous pourrez modifier toutes les informations existantes sur les participants ainsi que modifier les quantités de billets.	\n\n\n		\n		\n		\n	\n		Billets ne sont plus disponibles
URL:https://www.peniche-marcounet.fr/event/the-shazzams/
CATEGORIES:pop,punk,Rock
ATTACH;FMTTYPE=image/png:https://www.peniche-marcounet.fr/wp-content/uploads/2026/01/insta-15.01-1.png
END:VEVENT
END:VCALENDAR