BEGIN:VCALENDAR
VERSION:2.0
PRODID:-//Marcounet - ECPv6.15.20//NONSGML v1.0//EN
CALSCALE:GREGORIAN
METHOD:PUBLISH
X-ORIGINAL-URL:https://www.peniche-marcounet.fr
X-WR-CALDESC:Évènements pour Marcounet
REFRESH-INTERVAL;VALUE=DURATION:PT1H
X-Robots-Tag:noindex
X-PUBLISHED-TTL:PT1H
BEGIN:VTIMEZONE
TZID:Europe/Paris
BEGIN:DAYLIGHT
TZOFFSETFROM:+0100
TZOFFSETTO:+0200
TZNAME:CEST
DTSTART:20240331T010000
END:DAYLIGHT
BEGIN:STANDARD
TZOFFSETFROM:+0200
TZOFFSETTO:+0100
TZNAME:CET
DTSTART:20241027T010000
END:STANDARD
BEGIN:DAYLIGHT
TZOFFSETFROM:+0100
TZOFFSETTO:+0200
TZNAME:CEST
DTSTART:20250330T010000
END:DAYLIGHT
BEGIN:STANDARD
TZOFFSETFROM:+0200
TZOFFSETTO:+0100
TZNAME:CET
DTSTART:20251026T010000
END:STANDARD
BEGIN:DAYLIGHT
TZOFFSETFROM:+0100
TZOFFSETTO:+0200
TZNAME:CEST
DTSTART:20260329T010000
END:DAYLIGHT
BEGIN:STANDARD
TZOFFSETFROM:+0200
TZOFFSETTO:+0100
TZNAME:CET
DTSTART:20261025T010000
END:STANDARD
END:VTIMEZONE
BEGIN:VEVENT
DTSTART;TZID=Europe/Paris:20250903T200000
DTEND;TZID=Europe/Paris:20250904T003000
DTSTAMP:20260419T232357
CREATED:20250819T130221Z
LAST-MODIFIED:20250902T101752Z
UID:10000666-1756929600-1756945800@www.peniche-marcounet.fr
SUMMARY:Lofi On Seine / Vinyl Sim Collective
DESCRIPTION:Venez découvrir le tout récent Vinyl Sim Collective\, regroupant la crème parisienne du Lofi Hip Hop\, style naît sur internet aux influences variées allant de la soul\, au jazz en passant par les musiques ambiant\, s’inspirant des beatmakers des années 90.\n\nArmés de leurs SP404\, ces sampleurs de légendes de la marque ROLAND\, les membres du collectifs proposeront des beats enfumé et éclectiques dans une ambiance des plus chaleureuses.\n\nTohaj\nMayaewk\nTsy\nAnnawak\nWaxidermist\nCharly Brown\nGloop\n\n\n\nLo-Fi Soirée Club
URL:https://www.peniche-marcounet.fr/event/lofi-on-seine-vinyl-sim-collective/
CATEGORIES:Lo-Fi,Soirée Club
ATTACH;FMTTYPE=image/jpeg:https://www.peniche-marcounet.fr/wp-content/uploads/2025/08/FFB96EEE-B307-42F8-9EA6-A55335FDF3A4.jpeg
END:VEVENT
END:VCALENDAR