BEGIN:VCALENDAR
VERSION:2.0
PRODID:-//Marcounet - ECPv6.15.20//NONSGML v1.0//EN
CALSCALE:GREGORIAN
METHOD:PUBLISH
X-ORIGINAL-URL:https://www.peniche-marcounet.fr
X-WR-CALDESC:Évènements pour Marcounet
REFRESH-INTERVAL;VALUE=DURATION:PT1H
X-Robots-Tag:noindex
X-PUBLISHED-TTL:PT1H
BEGIN:VTIMEZONE
TZID:Europe/Paris
BEGIN:DAYLIGHT
TZOFFSETFROM:+0100
TZOFFSETTO:+0200
TZNAME:CEST
DTSTART:20230326T010000
END:DAYLIGHT
BEGIN:STANDARD
TZOFFSETFROM:+0200
TZOFFSETTO:+0100
TZNAME:CET
DTSTART:20231029T010000
END:STANDARD
BEGIN:DAYLIGHT
TZOFFSETFROM:+0100
TZOFFSETTO:+0200
TZNAME:CEST
DTSTART:20240331T010000
END:DAYLIGHT
BEGIN:STANDARD
TZOFFSETFROM:+0200
TZOFFSETTO:+0100
TZNAME:CET
DTSTART:20241027T010000
END:STANDARD
BEGIN:DAYLIGHT
TZOFFSETFROM:+0100
TZOFFSETTO:+0200
TZNAME:CEST
DTSTART:20250330T010000
END:DAYLIGHT
BEGIN:STANDARD
TZOFFSETFROM:+0200
TZOFFSETTO:+0100
TZNAME:CET
DTSTART:20251026T010000
END:STANDARD
END:VTIMEZONE
BEGIN:VEVENT
DTSTART;TZID=Europe/Paris:20241220T200000
DTEND;TZID=Europe/Paris:20241221T020000
DTSTAMP:20260420T154347
CREATED:20241212T145109Z
LAST-MODIFIED:20241212T154909Z
UID:10000393-1734724800-1734746400@www.peniche-marcounet.fr
SUMMARY:Lo-Fi festival
DESCRIPTION:L’édition du festival Lo-Fi Paris est de retour ! \nOrganisé de main de maître par @mayaewk et @tohaj.beats à la @peniche_marcounet avec 10 producteurs hip-hop lo-fi exclusifs\, vous vous souviendrez longtemps de cet événement ! \nArtistes impliqués : @mayaewk @tohaj.beats @flandrs @chaninja__ @tsy.snd @owae.ga @97specials @thewaxidermist @music_ahnamusica @baroto.prod \n_______________________________________ \nThe Paris Lo-Fi festival edition is back! \nMasterfully organized by @mayaewk and @tohaj.beats at @peniche_marcounet with 10 exclusives lo-fi hip-hop producers\, you’ll remember this event for a long time! \nArtists involved : @mayaewk @tohaj.beats @flandrs @chaninja__ @tsy.snd @owae.ga @97specials @thewaxidermist @music_ahnamusica @baroto.prod
URL:https://www.peniche-marcounet.fr/event/lo-fi-festival/
CATEGORIES:Lo-Fi,Soirée Club
ATTACH;FMTTYPE=image/png:https://www.peniche-marcounet.fr/wp-content/uploads/2024/12/A1-THE-EXPAT-JAM-26.02.png
END:VEVENT
END:VCALENDAR