BEGIN:VCALENDAR
VERSION:2.0
PRODID:-//Marcounet - ECPv6.15.20//NONSGML v1.0//EN
CALSCALE:GREGORIAN
METHOD:PUBLISH
X-ORIGINAL-URL:https://www.peniche-marcounet.fr
X-WR-CALDESC:Évènements pour Marcounet
REFRESH-INTERVAL;VALUE=DURATION:PT1H
X-Robots-Tag:noindex
X-PUBLISHED-TTL:PT1H
BEGIN:VTIMEZONE
TZID:Europe/Paris
BEGIN:DAYLIGHT
TZOFFSETFROM:+0100
TZOFFSETTO:+0200
TZNAME:CEST
DTSTART:20240331T010000
END:DAYLIGHT
BEGIN:STANDARD
TZOFFSETFROM:+0200
TZOFFSETTO:+0100
TZNAME:CET
DTSTART:20241027T010000
END:STANDARD
BEGIN:DAYLIGHT
TZOFFSETFROM:+0100
TZOFFSETTO:+0200
TZNAME:CEST
DTSTART:20250330T010000
END:DAYLIGHT
BEGIN:STANDARD
TZOFFSETFROM:+0200
TZOFFSETTO:+0100
TZNAME:CET
DTSTART:20251026T010000
END:STANDARD
BEGIN:DAYLIGHT
TZOFFSETFROM:+0100
TZOFFSETTO:+0200
TZNAME:CEST
DTSTART:20260329T010000
END:DAYLIGHT
BEGIN:STANDARD
TZOFFSETFROM:+0200
TZOFFSETTO:+0100
TZNAME:CET
DTSTART:20261025T010000
END:STANDARD
END:VTIMEZONE
BEGIN:VEVENT
DTSTART;TZID=Europe/Paris:20250802T180000
DTEND;TZID=Europe/Paris:20250802T210000
DTSTAMP:20260419T212607
CREATED:20250702T121504Z
LAST-MODIFIED:20250712T103725Z
UID:10000627-1754157600-1754168400@www.peniche-marcounet.fr
SUMMARY:ERDOS Latin QU4RTET
DESCRIPTION:Le quartet de Laurent ERDOS interprète ses relectures latines de célèbres standards de jazz\, ainsi que ses propres compositions. Leur musique est joyeuse et conviviale\, elle accorde une place importante à la percussion. \nLes années cinquante forme l’un des plus beaux chapitres de l’histoire de la musique cubaine aux États-Unis. Cette période fut celle où le jazz et la musique cubaine se sont le plus mélangés\, tant au niveau de l’orchestration qu’au niveau de l’innovation harmonique et rythmique (cf. le style Cubop\, inventé par Machito et Mario Bauza\, ou la collaboration de Dizzy Gillespie avec le percussionniste cubain Chano Pozo). Les petites formations emmenées par Cal Tjader\, Mongo Santamaria\, George Schearing\, Eddie Cano\, Errold Garner\, Armando Peraza\, ect. ont également fortement participées à cette rencontre.Ces groupes se produisaient quasiment tous les soirs\, cela explique le haut niveau qu’ils avaient atteint dans l’interprétation et l’exécution musicales.\nC’est cette tradition que Laurent Erdos défend depuis tant d’années.
URL:https://www.peniche-marcounet.fr/event/erdos-latin-qu4rtet/
CATEGORIES:Concert gratuit en terrasse,Jazz,Latin
ATTACH;FMTTYPE=image/png:https://www.peniche-marcounet.fr/wp-content/uploads/2025/07/01.08-1.png
END:VEVENT
END:VCALENDAR