BEGIN:VCALENDAR
VERSION:2.0
PRODID:-//Marcounet - ECPv6.15.20//NONSGML v1.0//EN
CALSCALE:GREGORIAN
METHOD:PUBLISH
X-ORIGINAL-URL:https://www.peniche-marcounet.fr
X-WR-CALDESC:Évènements pour Marcounet
REFRESH-INTERVAL;VALUE=DURATION:PT1H
X-Robots-Tag:noindex
X-PUBLISHED-TTL:PT1H
BEGIN:VTIMEZONE
TZID:Europe/Paris
BEGIN:DAYLIGHT
TZOFFSETFROM:+0100
TZOFFSETTO:+0200
TZNAME:CEST
DTSTART:20230326T010000
END:DAYLIGHT
BEGIN:STANDARD
TZOFFSETFROM:+0200
TZOFFSETTO:+0100
TZNAME:CET
DTSTART:20231029T010000
END:STANDARD
BEGIN:DAYLIGHT
TZOFFSETFROM:+0100
TZOFFSETTO:+0200
TZNAME:CEST
DTSTART:20240331T010000
END:DAYLIGHT
BEGIN:STANDARD
TZOFFSETFROM:+0200
TZOFFSETTO:+0100
TZNAME:CET
DTSTART:20241027T010000
END:STANDARD
BEGIN:DAYLIGHT
TZOFFSETFROM:+0100
TZOFFSETTO:+0200
TZNAME:CEST
DTSTART:20250330T010000
END:DAYLIGHT
BEGIN:STANDARD
TZOFFSETFROM:+0200
TZOFFSETTO:+0100
TZNAME:CET
DTSTART:20251026T010000
END:STANDARD
BEGIN:DAYLIGHT
TZOFFSETFROM:+0100
TZOFFSETTO:+0200
TZNAME:CEST
DTSTART:20260329T010000
END:DAYLIGHT
BEGIN:STANDARD
TZOFFSETFROM:+0200
TZOFFSETTO:+0100
TZNAME:CET
DTSTART:20261025T010000
END:STANDARD
BEGIN:DAYLIGHT
TZOFFSETFROM:+0100
TZOFFSETTO:+0200
TZNAME:CEST
DTSTART:20270328T010000
END:DAYLIGHT
BEGIN:STANDARD
TZOFFSETFROM:+0200
TZOFFSETTO:+0100
TZNAME:CET
DTSTART:20271031T010000
END:STANDARD
END:VTIMEZONE
BEGIN:VEVENT
DTSTART;TZID=Europe/Paris:20260331T200000
DTEND;TZID=Europe/Paris:20260331T220000
DTSTAMP:20260419T173530
CREATED:20260218T145617Z
LAST-MODIFIED:20260316T134923Z
UID:10000811-1774987200-1774994400@www.peniche-marcounet.fr
SUMMARY:WEEKEND AFFAIR
DESCRIPTION:Les yeux levés vers le ciel\, Weekend Affair dévoilent sur scène Vol Intérieur\, un voyage synth-pop entre nuages\, avions et amours intenses.\nLes textes sensibles de Louis Aguilar s’entrelacent aux instrus minimales de Cyril Debarge.\nProduit par Yuksek\, l’album trouve en live toute sa puissance\, dans un subtil équilibre entre pop élégante et pulsation dansante. \n \n1er Partie : Monsieur Toulouse. \nPrévente : 11€ (ci dessous) // Tarif sur place : 13€ \nDowntempo electro House Open air Gratuit
URL:https://www.peniche-marcounet.fr/event/weekend-affair/
CATEGORIES:Concert debout,electro,Synth Pop
ATTACH;FMTTYPE=image/png:https://www.peniche-marcounet.fr/wp-content/uploads/2026/02/insta-30.04-2.png
END:VEVENT
BEGIN:VEVENT
DTSTART;TZID=Europe/Paris:20260321T220000
DTEND;TZID=Europe/Paris:20260322T030000
DTSTAMP:20260419T173530
CREATED:20260320T085844Z
LAST-MODIFIED:20260320T090056Z
UID:10000865-1774130400-1774148400@www.peniche-marcounet.fr
SUMMARY:Copain-copain
DESCRIPTION:Un copain et un autre copain\, avec un copain et un copain de copain\, ça fait copain-copain.\nÇa va pas plus loin\, les copains de mes copains sont mes copains. \nLeur point commun ? Digger des disques et les faire partager à des danseurs-kiffeurs-smilleurs de groove.\nPour cette première occasion\, l’alchimie se fait entre les talentueux : Luke Seager et Zongo de La Récré à Son\, et deux matelots que vous avez déjà croisé au Marcounet : Ramö Ime et Chud. \nRamenez vos fesses ce samedi 21 mars de 22H à 4h pour profiter du spectacle !\nPrix des entrées tout doux de 5€
URL:https://www.peniche-marcounet.fr/event/copain-copain/
CATEGORIES:electro,House,Soirée Club
ATTACH;FMTTYPE=image/png:https://www.peniche-marcounet.fr/wp-content/uploads/2026/03/26.03-Tsugi-10.png
END:VEVENT
BEGIN:VEVENT
DTSTART;TZID=Europe/Paris:20260319T180000
DTEND;TZID=Europe/Paris:20260320T000000
DTSTAMP:20260419T173530
CREATED:20260304T160803Z
LAST-MODIFIED:20260305T124940Z
UID:10000825-1773943200-1773964800@www.peniche-marcounet.fr
SUMMARY:
DESCRIPTION:🌊✨ APERO SUR LA PÉNICHE MARCOUNET ✨🌊\nLe 19 mars 2026\, on largue les amarres pour un apéro comme on les aime 🚀\nle Beon Festival te donne rendez-vous de 18h à minuit sur la péniche MARCOUNET\, au pied du Pont Marie (Paris 4e)\, pour une soirée les pieds sur l’eau et la tête dans le son 🔊\nAu programme : \n🎧 DJ sets toute la soirée\n🍸 Cocktails soigneusement préparés\n🍢 Tapas à partager (ou pas 😉)\n🌆 Coucher de soleil sur la Seine & ambiance électrique\nQue tu viennes pour chiller en terrasse\, danser après le boulot ou trinquer entre amis\, tout est réuni pour lancer le printemps comme il se doit ! Ramène ta team et viens vibrer avec nous ! \n📍 Péniche MARCOUNET – Quai de l’Hôtel de Ville\, 75004 Paris\n📅 19 mars 2026\n🕕 18h — 00h \nLe Beon Festival est à sa 6ème édition cet été au Fort de Condé\, on repart pour les 17\, 18 et 19 juillet !
URL:https://www.peniche-marcounet.fr/event/beon-festival-a-la-peniche-marcounet/
CATEGORIES:electro,Groove,House,Soirée gratuite
ATTACH;FMTTYPE=image/png:https://www.peniche-marcounet.fr/wp-content/uploads/2026/03/POST-INSTA-MARCOUNET-1080-x-1350-px-2.png
END:VEVENT
BEGIN:VEVENT
DTSTART;TZID=Europe/Paris:20260227T193000
DTEND;TZID=Europe/Paris:20260227T220000
DTSTAMP:20260419T173530
CREATED:20260206T101733Z
LAST-MODIFIED:20260206T103735Z
UID:10000801-1772220600-1772229600@www.peniche-marcounet.fr
SUMMARY:109 – Joslie & Hyde Solo Live
DESCRIPTION:Tellement d’artistes talentueux débutent dans l’industrie musicale\, prêts à tout casser avec des sons de fou ! Néanmoins assurer toute une soirée quand on est une formation récente\, c’est pas évident… C’est de la que nous est venue l’idée du 109\, du « sang neuf ». 🩸\nLe concept ? 2 jeunes talents\, 2 sets de 45 minutes\, et surtout une occasion de montrer à Paris de quoi elles/ils sont capables. 🌱 \nJoslieEntre néo-soul\, chanson française et touches jazzy\, Joslie développe un univers sensible et groovy\, à la fois dansant et introspectif. Porté par une voix suave et aérienne\, il livre des morceaux comme des mantras funky\, explorant l’amour\, le temps et l’élan de vivre\, avec des influences allant de Jamiroquai à Flavien Berger. \n \nHyde SoloPianiste et guitariste de formation classique\, Hyde propose une électro singulière nourrie d’influences rock et psychédéliques. Son projet mêle énergie prog\, souffle épique et modernité\, entre héritage pop-rock et vision électronique résolument personnelle. \n \nTarif sur place : 12€ \n\nDowntempo electro House Open air Gratuit
URL:https://www.peniche-marcounet.fr/event/109-joslie-hyde-live/
CATEGORIES:Concert debout,electro,Neo Soul
ATTACH;FMTTYPE=image/png:https://www.peniche-marcounet.fr/wp-content/uploads/2026/02/03.03.png
END:VEVENT
BEGIN:VEVENT
DTSTART;TZID=Europe/Paris:20260220T210000
DTEND;TZID=Europe/Paris:20260221T020000
DTSTAMP:20260419T173530
CREATED:20260210T171916Z
LAST-MODIFIED:20260211T091941Z
UID:10000805-1771621200-1771639200@www.peniche-marcounet.fr
SUMMARY:ESCAPE MUSIC invite SUNDAY ROAST
DESCRIPTION:🎶 ESCAPE MUSIC – PÉNICHE MARCOUNET – 20 FÉVRIER \nParis\, on embarque. \nEscape Music revient avec une nouvelle traversée nocturne et cette fois-ci\, sur l’eau\, en plein cœur de la capitale. \nLe 20 février\, la Péniche Marcounet se transforme en capsule sonore : une nuit intimiste\, immersive et vibrante\, limitée à 200 personnes\, réparties sur l’ensemble du bateau. Une proximité rare\, une énergie collective\, un dancefloor vivant. \nUne signature Escape : programmation pointue\, esthétique soignée\, expérience humaine et sensorielle — du premier track au dernier regard. \n✨ LINE-UP ✨ \nLUJE – Sunday Roast / Club Pizza House – Deep – Electro – Tech-House Sets progressifs\, groove magnétique\, textures hypnotiques. \nPENAR – Sunday Roast / Club Pizza Énergie organique\, sélection immersive\, tension maîtrisée. \nJAD SABBAH – Escape Music Vibe élégante\, narration sonore\, précision club. \nIZZY – Escape Music Signature émotionnelle\, montée progressive\, voyage nocturne. \n  \n🌊 INFOS 📍 Péniche Marcounet – Paris \n📅 Jeudi 20 février \n🚇 Métro ligne 7 – Pont Marie \n🎟️ Capacité limitée – arrive tôt \n🫂 SAFE & LOVE Le consentement est essentiel. Notre espace est inclusif\, bienveillant et safe. Aucune discrimination tolérée. Signalez tout comportement inapproprié à notre staff. \n✨ SUIVEZ-NOUS \nEscape Music https://www.instagram.com/escape_music_collective/ \nPéniche Marcounet https://www.instagram.com/peniche_marcounet/
URL:https://www.peniche-marcounet.fr/event/escape-music-invite-sunday-roast/
CATEGORIES:electro,House,Soirée Club,Tech house
ATTACH;FMTTYPE=image/png:https://www.peniche-marcounet.fr/wp-content/uploads/2026/02/20.02-ESCAPE.png
END:VEVENT
BEGIN:VEVENT
DTSTART;TZID=Europe/Paris:20260214T190000
DTEND;TZID=Europe/Paris:20260215T020000
DTSTAMP:20260419T173530
CREATED:20260130T182034Z
LAST-MODIFIED:20260204T091122Z
UID:10000794-1771095600-1771120800@www.peniche-marcounet.fr
SUMMARY:Contre Saint-Valentin ft. Le Tréma
DESCRIPTION:Pour toutes celles et ceux qui n’en peuvent plus des 14 février aux chandelles et des dîners à rallonge ! Cette année encore on dit non aux clichés et oui à la fête ! La Péniche Marcounet organise sa Contre-Saint-Valentin\, quai de l’Hôtel de Ville\, à Paris. 💞🔥 \nLe 14 février\, que vous soyez célibataire ou simplement partant.e pour une soirée mémorable\, c’est l’occasion parfaite de célébrer\, se rencontrer\, se plaire pourquoi pas !? On a d’ailleurs prévu des bracelets bien pratiques pour briser la glace 😘 \nDès 20h\, un échange interactif vous attend mêlant sexualité\, légèreté\, bienveillance (mais sans tabou !). Agathe Jolivet\, créatrice du cul-tissime PodQ & Le Tréma\, chuchoteur de l’extrême sonderont l’éternelle question : Les hétérosexuels vont-ils bien ? \nÀ 21h30\, DJ Valentine vous transportera dans un voyage sensuel et électro\, un mélange suave de classiques indétrônables et pépites chinées parmi ses arcanes secrètes. \nEnfin\, dès 22h30\, La Mulette prendra les rennes pour un set pop et queer survolté\, le bouquet final de cette édition 2026 de Sin Sex & Seine ! 🥵
URL:https://www.peniche-marcounet.fr/event/contre-saint-valentin-ft-le-trema-2/
CATEGORIES:electro,LGBTQI+,pop,Soirée Club
ATTACH;FMTTYPE=image/png:https://www.peniche-marcounet.fr/wp-content/uploads/2026/01/14.02-2.png
END:VEVENT
BEGIN:VEVENT
DTSTART;TZID=Europe/Paris:20260213T200000
DTEND;TZID=Europe/Paris:20260214T020000
DTSTAMP:20260419T173531
CREATED:20260202T144259Z
LAST-MODIFIED:20260204T131838Z
UID:10000795-1771012800-1771034400@www.peniche-marcounet.fr
SUMMARY:
DESCRIPTION:Ernesto et son label Kokoro Recordings prennent le contrôle du Marcounet pour une soirée électronique résolument live et immersive. Une traversée des marges de l’électro\, de l’ambient à la techno\, en passant par le downtempo\, l’IDM et la house. \nLa nuit démarre avec l’ambient granuleuse sur cassette d’Alexis Delozanne\, suivie du live synthés et trompette de Thibaud Lerouge\, entre textures organiques et machines.\nErnesto enchaîne avec un live puissant et enveloppant mêlant synthés\, guitare et drum machine. Carreidas prépare le terrain en DJ set avant le final : un live techno / DnB intense signé Small Seeds. \nUne soirée pensée comme un voyage sonore\, entre écoute attentive et montée progressive vers le dancefloor. Pour les amateurs de lives électroniques\, d’expérimentations et de nuits qui finissent en sueur.
URL:https://www.peniche-marcounet.fr/event/kokoro-recordings-x-le-marcounet/
CATEGORIES:Drum & Bass,electro,House,minimal,Soirée Club
ATTACH;FMTTYPE=image/png:https://www.peniche-marcounet.fr/wp-content/uploads/2026/02/insta-23.10.png
END:VEVENT
BEGIN:VEVENT
DTSTART;TZID=Europe/Paris:20260131T190000
DTEND;TZID=Europe/Paris:20260131T210000
DTSTAMP:20260419T173531
CREATED:20260108T092743Z
LAST-MODIFIED:20260120T133033Z
UID:10000773-1769886000-1769893200@www.peniche-marcounet.fr
SUMMARY:109 - Galawesh &  Thomas Salvatore Live
DESCRIPTION:Tellement d’artistes talentueux débutent dans l’industrie musicale\, prêts à tout casser avec des sons de fou ! Néanmoins assurer toute une soirée quand on est une formation récente\, c’est pas évident… C’est de la que nous est venue l’idée du 109\, du « sang neuf ». 🩸\nLe concept ? 2 jeunes talents\, 2 sets de 45 minutes\, et surtout une occasion de montrer à Paris de quoi elles/ils sont capables. 🌱 \nGALAWESH : \n\nMon projet est un voyage musical composé avec différents producteurs\, où chaque morceau apporte sa propre couleur. J’aime décrire mon set comme une “salade de fruits” : des saveurs variées qui se répondent et s’enrichissent une fois réunies. On y retrouve des influences folk\, rock et électroniques. Toutes au service de textes qui parlent de bienveillance\, de soin de soi\, d’amour\, mais aussi de solitude et de ces zones d’ombre qui nous traversent tous. \n\nTHOMAS SALVATORE :  \nThomas Salvatore est l’une des figures montantes de la scène musicale actuelle. Claviériste\, chanteur et compositeur originaire de Quimper\, il développe un univers pop aux influences soul\, jazz\, funk et rock\, teinté d’une esthétique rétro-futuriste inspirée des années 2000.\nAux claviers\, il mêle pianos et orgues organiques\, synthés vintage et textures modernes\, porté par une voix pop-soul expressive. Influencé par des artistes comme Louis Cole\, Gorillaz\, Robert Glasper ou Cory Henry\, Thomas façonne une signature sonore personnelle\, à la croisée de la pop alternative et du groove contemporain.\n\n\nDowntempo electro House Open air Gratuit
URL:https://www.peniche-marcounet.fr/event/109-galawesh-thomas-salvatore-live/
CATEGORIES:Concert debout,electro,pop,Rock,Soul
ATTACH;FMTTYPE=image/png:https://www.peniche-marcounet.fr/wp-content/uploads/2026/01/10.01-1.png
END:VEVENT
BEGIN:VEVENT
DTSTART;TZID=Europe/Paris:20260113T190000
DTEND;TZID=Europe/Paris:20260114T000000
DTSTAMP:20260419T173531
CREATED:20251215T122912Z
LAST-MODIFIED:20251215T123152Z
UID:10000758-1768330800-1768348800@www.peniche-marcounet.fr
SUMMARY:FLEX FESTIVAL - "1920Hz" by ICART
DESCRIPTION:Et si les années 20 rencontraient l’électro ✨ \nLa soirée où les années folles et l’électro fusionnent.\nEntrez dans l’univers de 1920 Hz\, où les soirées clandestines des années 20 se réinventent à travers l’électro.\nEntre notes de jazz\, performances live et rythmes électro percutants\, vivez une expérience immersive où vous êtes au cœur de la fête. \nDécouvrez l’esprit Art déco Gatsby et l’énergie brute de l’électro moderne dans une atmosphère élégante\, raffinée et extravagante qui flirte avec le côté déstructuré et libéré des clubs. \nDansez et laissez-vous surprendre par chaque instant au cours de la soirée. 🪩 \nLINEUP\nFather PopCorn\nhttp://www.youtube.com/@fatherpopcorn\nhttps://www.instagram.com/father.popcorn/\nBrume Sonore ft Elie Trumpet (DJ Set)\nhttps://soundcloud.com/brumesonore\nhttps://www.instagram.com/brume.sonore/ \n 
URL:https://www.peniche-marcounet.fr/event/flex-festival-1920hz-by-icart/
CATEGORIES:Concert club,electro,Jazz,pop
ATTACH;FMTTYPE=image/png:https://www.peniche-marcounet.fr/wp-content/uploads/2025/12/13.01.png
END:VEVENT
BEGIN:VEVENT
DTSTART;TZID=Europe/Paris:20251219T200000
DTEND;TZID=Europe/Paris:20251220T020000
DTSTAMP:20260419T173531
CREATED:20251202T132836Z
LAST-MODIFIED:20251202T141143Z
UID:10000738-1766174400-1766196000@www.peniche-marcounet.fr
SUMMARY:Deepsea Grooves Invite Groove Woods
DESCRIPTION:Deepsea Grooves invite Groove Woods 🪩\n\nLe collectif du fond des abysses revient le vendredi 19 décembre pour la dernière soirée de l’année à la Péniche Marcounet ⚓\n\nCette fois-ci\, c’est Maisa et Unagi qui mènent la barque ! Ils seront très bien accompagnés de Mømø et Nodism\n\n\n\nAu programme : 6 heures de DJ sets House et Electro sur les quais de Seine\n\n⛴️ LINE UP\n\nUnagi\nhttps://www.instagram.com/unagi.tm https://on.soundcloud.com/hliabDx6ljkgSw0rm2\n\nMaisa \nhttps://www.instagram.com/maisa.music https://on.soundcloud.com/SPNhIhyJcUomq6krJb\n\nGroove Woods w/ Mømø & Nodism\nhttps://www.instagram.com/groovewoods/\nhttps://www.instagram.com/oceanemorales/\nhttps://on.soundcloud.com/WO2cKeFKsmbIGRCDk2\nhttps://www.instagram.com/nodism__/\nhttps://on.soundcloud.com/cHkctFPx3FuFJqcZzf
URL:https://www.peniche-marcounet.fr/event/deepsea-grooves-invite-groove-woods/
CATEGORIES:electro,House,Soirée Club
ATTACH;FMTTYPE=image/png:https://www.peniche-marcounet.fr/wp-content/uploads/2025/12/9.09-chinau.png
END:VEVENT
BEGIN:VEVENT
DTSTART;TZID=Europe/Paris:20251206T200000
DTEND;TZID=Europe/Paris:20251206T213000
DTSTAMP:20260419T173531
CREATED:20251103T093636Z
LAST-MODIFIED:20251103T160041Z
UID:10000716-1765051200-1765056600@www.peniche-marcounet.fr
SUMMARY:Canicule Francine
DESCRIPTION:Canicule Francine est un trio composé d’un saxophone\, d’un violon et d’une contrebasse. Ils usent de leurs instruments de manière non-conventionnelle si bien qu’il est difficile de les distinguer. Chacun d’eux vient avec un attirail électronique particulier qui s’allie grâce à des visuels hypnotiques. \nAu coeur de décembre\,  Canicule Francine est un gros glaçon sur la tête qui fond\, une rencontre entre réalité et fiction\, un date entre acoustique et électronique. \nEolo Andino : saxophone alto\, ewi\, drum machines.\nSulivan Loiseau : contrebasse électrique\, pédales d’effects\nFélix Gerbelot : violon\, visuels\, pédales d’effects \n\nDowntempo electro House Open air Gratuit
URL:https://www.peniche-marcounet.fr/event/canicule-francine/
CATEGORIES:ambiance psychédélique,Concert debout,electro
ATTACH;FMTTYPE=image/jpeg:https://www.peniche-marcounet.fr/wp-content/uploads/2025/11/INSTA-06.12.jpg
END:VEVENT
BEGIN:VEVENT
DTSTART;TZID=Europe/Paris:20251106T080000
DTEND;TZID=Europe/Paris:20251106T170000
DTSTAMP:20260419T173531
CREATED:20251106T141141Z
LAST-MODIFIED:20251106T141326Z
UID:10000725-1762416000-1762448400@www.peniche-marcounet.fr
SUMMARY:Monte Crystal  + Guest
DESCRIPTION:Présentation : Monte Crystal est né sur les rives d’une pop Incisive et psychédélique. Inspiré d’Est en Ouest de Khruangbin ou encore Tame Impala à la différence près de la langue\, en français dans le texte\, pour rendre hommage aux origines du duo parisien. Claviers vaporeux\, basses rondes\, et guitares floydiennes\, le tout au service d’un groove planant\, aux touches funk et rock en alternance pour ne pas choisir. Le groupe parisien révèlera les premiers extraits de son nouvel EP à venir au printemps « Coté Jardin ». \nLe duo composé de Maxime Frerebeau et Paul Cattelat s’est entouré de musiciennes et musiciens talentueux pour arranger leurs compositions et les jouer sur scène à leurs côtés. Joan Pronnier (chanteuse de Lou de la Falaise) au chant\, Guillaume Kinziger à la guitare\, Cassandre Oosthoek (et son projet Cassandre) aux Claviers\, Théo Laurent (membre du projet Théodort) à la Batterie. \nTarif sur place : 12€ \n \n\nDowntempo electro House Open air Gratuit
URL:https://www.peniche-marcounet.fr/event/11260/
CATEGORIES:Concert debout,electro,pop
ATTACH;FMTTYPE=image/png:https://www.peniche-marcounet.fr/wp-content/uploads/2025/11/insta-23.01-1.png
END:VEVENT
BEGIN:VEVENT
DTSTART;TZID=Europe/Paris:20251031T220000
DTEND;TZID=Europe/Paris:20251101T020000
DTSTAMP:20260419T173531
CREATED:20251002T140431Z
LAST-MODIFIED:20251021T081825Z
UID:10000700-1761948000-1761962400@www.peniche-marcounet.fr
SUMMARY:Danza to the Grave - Halloween Part 2
DESCRIPTION:Groove To Grave & Danza autoriza : \nAmi noctambule ce message t’es adressé\, si tu cherches un before pour ta soirée d’Halloween\, t’es tombé au bon endroit. \nOn jette l’ancre à la péniche Marcounet\, en plein cœur de Paris. Lieu intimiste\, places limitées à bord. Le boo-fore se passera dans la cale du bateau on sera au chaud\, t’inquiète pas et n’hésite pas à enfiler ton plus beau déguisement pour l’occasion. 👻 \nL’équipage sera composé de : \n• Groove To Grave\, label parisien fondé en 2022. Déjà 3 vinyles à leur actif\, un 4e en approche. Une sélecta éclectique\, piochée au fil de leurs navigations sur la Seine.\n• Danza Autoriza\, nouveau collectif de la scène locale\, embarqué à bord pour écumer les basses et faire tanguer la péniche. \nVisuel par LukasDarian \n⚠️ Info pratiques ⚠️\n📅 Date : Vendredi 31 octobre\n🕐 Horaires : 22h – 2h\n🎟️ Prix : 5€ sur shotgun\, 7€ sur place\n📍Adresse : @marcounet 14 quai de l’Hôtel de Ville\n75004 Paris \nDowntempo electro House Open air Gratuit
URL:https://www.peniche-marcounet.fr/event/danza-to-the-grave/
CATEGORIES:electro,House,Minimal House,Soirée Le Marcounet,Tech house
ATTACH;FMTTYPE=image/jpeg:https://www.peniche-marcounet.fr/wp-content/uploads/2025/10/VISUEL_003_INSTA_VF-scaled.jpg
END:VEVENT
BEGIN:VEVENT
DTSTART;TZID=Europe/Paris:20251024T220000
DTEND;TZID=Europe/Paris:20251025T020000
DTSTAMP:20260419T173531
CREATED:20251006T123611Z
LAST-MODIFIED:20251014T143154Z
UID:10000701-1761343200-1761357600@www.peniche-marcounet.fr
SUMMARY:SUPER KEBAB RECORDS DANS LA CALE
DESCRIPTION:Super Kebab Records c’est un label et collectif de DJs créé par deux amis de longue date\, Julie et Ugo aka LAZY et 100H\, avec une vision à eux : promouvoir la musique électronique et la street food avec des teufs éphémères dans des lieux alternatifs de la culture urbaine. En ce moment ils peaufinent leur premier EP bien épicé\, entre tech house percussive et groove bien senti pile dans l’ADN du crew pour une sortie cet hiver. \nEn résumé Super Kebab Records c’est des potes qui se font kiffer en proposant une expérience musicale unique avec du bon son\, de la bonne bouffe et de la bonne humeur !
URL:https://www.peniche-marcounet.fr/event/super-kebab-records-dans-la-cale/
CATEGORIES:electro,House,Soirée Club,Trance
ATTACH;FMTTYPE=image/png:https://www.peniche-marcounet.fr/wp-content/uploads/2025/10/Design-sans-titre-scaled.png
END:VEVENT
BEGIN:VEVENT
DTSTART;TZID=Europe/Paris:20250919T190000
DTEND;TZID=Europe/Paris:20250920T020000
DTSTAMP:20260419T173531
CREATED:20250918T173329Z
LAST-MODIFIED:20250919T084919Z
UID:10000692-1758308400-1758333600@www.peniche-marcounet.fr
SUMMARY:
DESCRIPTION:Groover Obsessions et la Péniche Marcounet présentent un nouveau rendez-vous consacré aux voix qui groovent et résonnent. Sur la scène intimiste de la Péniche Marcounet\, de jeunes artistes émergents viennent partager leur univers\, entre énergie brute et émotions vibrantes\, pour offrir des performances uniques et authentiques. 🎶 \nPour cette édition\, on te fait découvrir Como Como\, LAMOUR\, Nizar Zekri\, et les DJ sets de Gigi et Sohier. \nDowntempo electro House Open air Gratuit
URL:https://www.peniche-marcounet.fr/event/9602/
CATEGORIES:electro,Italo Disco,pop,Rock,Soirée Le Marcounet,Soul
ATTACH;FMTTYPE=image/jpeg:https://www.peniche-marcounet.fr/wp-content/uploads/2025/09/POST-GD-45-scaled.jpg
END:VEVENT
BEGIN:VEVENT
DTSTART;TZID=Europe/Paris:20250905T210000
DTEND;TZID=Europe/Paris:20250906T020000
DTSTAMP:20260419T173531
CREATED:20250820T142831Z
LAST-MODIFIED:20250902T113800Z
UID:10000667-1757106000-1757124000@www.peniche-marcounet.fr
SUMMARY:Pflugschar Showcase
DESCRIPTION:Pflugschar est un collectif de DJ basé à Barcelone. Depuis début 2023\, ils organisent des événements dans toute l’Europe pour transmettre leur passion pour la musique électronique et les vinyles.\n\nVéritable équipe de diggers passionnés\, leur mission principale est de faire découvrir des musiques oubliées\, toutes liées par un point commun : le groove\, pour vous faire danser.\n\nAprès plusieurs showcases en Europe (Amsterdam\, Berlin\, Vienne\, Brescia…)\, le collectif débarque dans la capitale française pour une démonstration de groove en bonne et due forme. Sélection léchée\, vinyles affûtés et sourires garantis !\n\n\n\nDowntempo electro House Open air Gratuit
URL:https://www.peniche-marcounet.fr/event/pflugschar-showcase/
CATEGORIES:electro,House,minimal,Soirée Club
ATTACH;FMTTYPE=image/png:https://www.peniche-marcounet.fr/wp-content/uploads/2025/08/PFLUGSCHARxPARIS_-_post.png
END:VEVENT
BEGIN:VEVENT
DTSTART;TZID=Europe/Paris:20241115T223000
DTEND;TZID=Europe/Paris:20241116T043000
DTSTAMP:20260419T173531
CREATED:20251103T115303Z
LAST-MODIFIED:20251103T115303Z
UID:10000717-1731709800-1731731400@www.peniche-marcounet.fr
SUMMARY:Wooboodoo On A Boat 2
DESCRIPTION:Wooboodoo revient sur le bateau dans le centre de Paris ! \nLe 8 novembre\, nous aurons une nouvelle occasion de nous retrouver et d’écouter de la bonne musique. \nCette fois-ci\, nous allons tester un nouveau système audio à trois voies qui enrichira l’expérience. \nAu programme\, trois de nos amis aux styles très différents (électro\, tech-house\, minimal)\, mais qui s’accordent tous parfaitement avec l’ambiance de notre soirée. + notre propre beigrek qui assurera la cohésion de l’ensemble. \nLine up :  Jamel Zouch (Canal 22) \nKlesnar \nExBordure \nBeigrek \nDate : 8.11.2025 \nHeure : 22h00 – 02h00 \nLieu : Peniche Le Marcounet (Quai de l’Hôtel de ville) \nPrix : 10 \n—————– \n\n\nWooboodoo is coming back to the boat in Paris centre On the 8th of November we will have the next opportunity to meet and listen to lovely music. This time we are going to be testing a new three way sound system that will add to the experience.\n\nOn the roster we will have 3 friends of ours showing quite different styles (electro\, tech-house\, minimal) but all working well with the sound of our party. + our own beigrek doing the job of a glue of it all.
URL:https://www.peniche-marcounet.fr/event/wooboodoo-on-a-boat-2/
CATEGORIES:electro,minimal,Soirée Club,Tech house
ATTACH;FMTTYPE=image/png:https://www.peniche-marcounet.fr/wp-content/uploads/2025/11/Capture-decran-2025-11-03-a-10.53.27.png
END:VEVENT
END:VCALENDAR