BEGIN:VCALENDAR
VERSION:2.0
PRODID:-//Marcounet - ECPv6.15.20//NONSGML v1.0//EN
CALSCALE:GREGORIAN
METHOD:PUBLISH
X-WR-CALNAME:Marcounet
X-ORIGINAL-URL:https://www.peniche-marcounet.fr
X-WR-CALDESC:Évènements pour Marcounet
REFRESH-INTERVAL;VALUE=DURATION:PT1H
X-Robots-Tag:noindex
X-PUBLISHED-TTL:PT1H
BEGIN:VTIMEZONE
TZID:Europe/Paris
BEGIN:DAYLIGHT
TZOFFSETFROM:+0100
TZOFFSETTO:+0200
TZNAME:CEST
DTSTART:20250330T010000
END:DAYLIGHT
BEGIN:STANDARD
TZOFFSETFROM:+0200
TZOFFSETTO:+0100
TZNAME:CET
DTSTART:20251026T010000
END:STANDARD
BEGIN:DAYLIGHT
TZOFFSETFROM:+0100
TZOFFSETTO:+0200
TZNAME:CEST
DTSTART:20260329T010000
END:DAYLIGHT
BEGIN:STANDARD
TZOFFSETFROM:+0200
TZOFFSETTO:+0100
TZNAME:CET
DTSTART:20261025T010000
END:STANDARD
BEGIN:DAYLIGHT
TZOFFSETFROM:+0100
TZOFFSETTO:+0200
TZNAME:CEST
DTSTART:20270328T010000
END:DAYLIGHT
BEGIN:STANDARD
TZOFFSETFROM:+0200
TZOFFSETTO:+0100
TZNAME:CET
DTSTART:20271031T010000
END:STANDARD
END:VTIMEZONE
BEGIN:VEVENT
DTSTART;TZID=Europe/Paris:20260213T200000
DTEND;TZID=Europe/Paris:20260214T020000
DTSTAMP:20260419T172006
CREATED:20260202T144259Z
LAST-MODIFIED:20260204T131838Z
UID:10000795-1771012800-1771034400@www.peniche-marcounet.fr
SUMMARY:
DESCRIPTION:Ernesto et son label Kokoro Recordings prennent le contrôle du Marcounet pour une soirée électronique résolument live et immersive. Une traversée des marges de l’électro\, de l’ambient à la techno\, en passant par le downtempo\, l’IDM et la house. \nLa nuit démarre avec l’ambient granuleuse sur cassette d’Alexis Delozanne\, suivie du live synthés et trompette de Thibaud Lerouge\, entre textures organiques et machines.\nErnesto enchaîne avec un live puissant et enveloppant mêlant synthés\, guitare et drum machine. Carreidas prépare le terrain en DJ set avant le final : un live techno / DnB intense signé Small Seeds. \nUne soirée pensée comme un voyage sonore\, entre écoute attentive et montée progressive vers le dancefloor. Pour les amateurs de lives électroniques\, d’expérimentations et de nuits qui finissent en sueur.
URL:https://www.peniche-marcounet.fr/event/kokoro-recordings-x-le-marcounet/
CATEGORIES:Drum & Bass,electro,House,minimal,Soirée Club
ATTACH;FMTTYPE=image/png:https://www.peniche-marcounet.fr/wp-content/uploads/2026/02/insta-23.10.png
END:VEVENT
BEGIN:VEVENT
DTSTART;TZID=Europe/Paris:20260214T190000
DTEND;TZID=Europe/Paris:20260215T020000
DTSTAMP:20260419T172006
CREATED:20260130T182034Z
LAST-MODIFIED:20260204T091122Z
UID:10000794-1771095600-1771120800@www.peniche-marcounet.fr
SUMMARY:Contre Saint-Valentin ft. Le Tréma
DESCRIPTION:Pour toutes celles et ceux qui n’en peuvent plus des 14 février aux chandelles et des dîners à rallonge ! Cette année encore on dit non aux clichés et oui à la fête ! La Péniche Marcounet organise sa Contre-Saint-Valentin\, quai de l’Hôtel de Ville\, à Paris. 💞🔥 \nLe 14 février\, que vous soyez célibataire ou simplement partant.e pour une soirée mémorable\, c’est l’occasion parfaite de célébrer\, se rencontrer\, se plaire pourquoi pas !? On a d’ailleurs prévu des bracelets bien pratiques pour briser la glace 😘 \nDès 20h\, un échange interactif vous attend mêlant sexualité\, légèreté\, bienveillance (mais sans tabou !). Agathe Jolivet\, créatrice du cul-tissime PodQ & Le Tréma\, chuchoteur de l’extrême sonderont l’éternelle question : Les hétérosexuels vont-ils bien ? \nÀ 21h30\, DJ Valentine vous transportera dans un voyage sensuel et électro\, un mélange suave de classiques indétrônables et pépites chinées parmi ses arcanes secrètes. \nEnfin\, dès 22h30\, La Mulette prendra les rennes pour un set pop et queer survolté\, le bouquet final de cette édition 2026 de Sin Sex & Seine ! 🥵
URL:https://www.peniche-marcounet.fr/event/contre-saint-valentin-ft-le-trema-2/
CATEGORIES:electro,LGBTQI+,pop,Soirée Club
ATTACH;FMTTYPE=image/png:https://www.peniche-marcounet.fr/wp-content/uploads/2026/01/14.02-2.png
END:VEVENT
BEGIN:VEVENT
DTSTART;TZID=Europe/Paris:20260220T210000
DTEND;TZID=Europe/Paris:20260221T020000
DTSTAMP:20260419T172006
CREATED:20260210T171916Z
LAST-MODIFIED:20260211T091941Z
UID:10000805-1771621200-1771639200@www.peniche-marcounet.fr
SUMMARY:ESCAPE MUSIC invite SUNDAY ROAST
DESCRIPTION:🎶 ESCAPE MUSIC – PÉNICHE MARCOUNET – 20 FÉVRIER \nParis\, on embarque. \nEscape Music revient avec une nouvelle traversée nocturne et cette fois-ci\, sur l’eau\, en plein cœur de la capitale. \nLe 20 février\, la Péniche Marcounet se transforme en capsule sonore : une nuit intimiste\, immersive et vibrante\, limitée à 200 personnes\, réparties sur l’ensemble du bateau. Une proximité rare\, une énergie collective\, un dancefloor vivant. \nUne signature Escape : programmation pointue\, esthétique soignée\, expérience humaine et sensorielle — du premier track au dernier regard. \n✨ LINE-UP ✨ \nLUJE – Sunday Roast / Club Pizza House – Deep – Electro – Tech-House Sets progressifs\, groove magnétique\, textures hypnotiques. \nPENAR – Sunday Roast / Club Pizza Énergie organique\, sélection immersive\, tension maîtrisée. \nJAD SABBAH – Escape Music Vibe élégante\, narration sonore\, précision club. \nIZZY – Escape Music Signature émotionnelle\, montée progressive\, voyage nocturne. \n  \n🌊 INFOS 📍 Péniche Marcounet – Paris \n📅 Jeudi 20 février \n🚇 Métro ligne 7 – Pont Marie \n🎟️ Capacité limitée – arrive tôt \n🫂 SAFE & LOVE Le consentement est essentiel. Notre espace est inclusif\, bienveillant et safe. Aucune discrimination tolérée. Signalez tout comportement inapproprié à notre staff. \n✨ SUIVEZ-NOUS \nEscape Music https://www.instagram.com/escape_music_collective/ \nPéniche Marcounet https://www.instagram.com/peniche_marcounet/
URL:https://www.peniche-marcounet.fr/event/escape-music-invite-sunday-roast/
CATEGORIES:electro,House,Soirée Club,Tech house
ATTACH;FMTTYPE=image/png:https://www.peniche-marcounet.fr/wp-content/uploads/2026/02/20.02-ESCAPE.png
END:VEVENT
BEGIN:VEVENT
DTSTART;TZID=Europe/Paris:20260227T193000
DTEND;TZID=Europe/Paris:20260227T220000
DTSTAMP:20260419T172006
CREATED:20260206T101733Z
LAST-MODIFIED:20260206T103735Z
UID:10000801-1772220600-1772229600@www.peniche-marcounet.fr
SUMMARY:109 – Joslie & Hyde Solo Live
DESCRIPTION:Tellement d’artistes talentueux débutent dans l’industrie musicale\, prêts à tout casser avec des sons de fou ! Néanmoins assurer toute une soirée quand on est une formation récente\, c’est pas évident… C’est de la que nous est venue l’idée du 109\, du « sang neuf ». 🩸\nLe concept ? 2 jeunes talents\, 2 sets de 45 minutes\, et surtout une occasion de montrer à Paris de quoi elles/ils sont capables. 🌱 \nJoslieEntre néo-soul\, chanson française et touches jazzy\, Joslie développe un univers sensible et groovy\, à la fois dansant et introspectif. Porté par une voix suave et aérienne\, il livre des morceaux comme des mantras funky\, explorant l’amour\, le temps et l’élan de vivre\, avec des influences allant de Jamiroquai à Flavien Berger. \n \nHyde SoloPianiste et guitariste de formation classique\, Hyde propose une électro singulière nourrie d’influences rock et psychédéliques. Son projet mêle énergie prog\, souffle épique et modernité\, entre héritage pop-rock et vision électronique résolument personnelle. \n \nTarif sur place : 12€ \n\nDowntempo electro House Open air Gratuit
URL:https://www.peniche-marcounet.fr/event/109-joslie-hyde-live/
CATEGORIES:Concert debout,electro,Neo Soul
ATTACH;FMTTYPE=image/png:https://www.peniche-marcounet.fr/wp-content/uploads/2026/02/03.03.png
END:VEVENT
END:VCALENDAR