BEGIN:VCALENDAR
VERSION:2.0
PRODID:-//Marcounet - ECPv6.15.20//NONSGML v1.0//EN
CALSCALE:GREGORIAN
METHOD:PUBLISH
X-WR-CALNAME:Marcounet
X-ORIGINAL-URL:https://www.peniche-marcounet.fr
X-WR-CALDESC:Évènements pour Marcounet
REFRESH-INTERVAL;VALUE=DURATION:PT1H
X-Robots-Tag:noindex
X-PUBLISHED-TTL:PT1H
BEGIN:VTIMEZONE
TZID:Europe/Paris
BEGIN:DAYLIGHT
TZOFFSETFROM:+0100
TZOFFSETTO:+0200
TZNAME:CEST
DTSTART:20250330T010000
END:DAYLIGHT
BEGIN:STANDARD
TZOFFSETFROM:+0200
TZOFFSETTO:+0100
TZNAME:CET
DTSTART:20251026T010000
END:STANDARD
BEGIN:DAYLIGHT
TZOFFSETFROM:+0100
TZOFFSETTO:+0200
TZNAME:CEST
DTSTART:20260329T010000
END:DAYLIGHT
BEGIN:STANDARD
TZOFFSETFROM:+0200
TZOFFSETTO:+0100
TZNAME:CET
DTSTART:20261025T010000
END:STANDARD
BEGIN:DAYLIGHT
TZOFFSETFROM:+0100
TZOFFSETTO:+0200
TZNAME:CEST
DTSTART:20270328T010000
END:DAYLIGHT
BEGIN:STANDARD
TZOFFSETFROM:+0200
TZOFFSETTO:+0100
TZNAME:CET
DTSTART:20271031T010000
END:STANDARD
END:VTIMEZONE
BEGIN:VEVENT
DTSTART;TZID=Europe/Paris:20260109T200000
DTEND;TZID=Europe/Paris:20260110T020000
DTSTAMP:20260419T151504
CREATED:20251229T124642Z
LAST-MODIFIED:20251229T125048Z
UID:10000769-1767988800-1768010400@www.peniche-marcounet.fr
SUMMARY:Noah Naas\, Tianmi & Cumulus.
DESCRIPTION:Noah Naas présente une dernière fois Murphy en live\, pour une date exceptionnelle! Entouré de Tianmi et Cumulus\, il livre un set acoustique aux influences Neo Soul\, Rap\, RnB\, Pop et Jazz. À partir de 22h\, la soirée se prolonge avec un DJ set jusqu’à 2h.
URL:https://www.peniche-marcounet.fr/event/noah-naas-tianmi-cumulus/
CATEGORIES:Concert debout,Hip hop,pop,Soul
ATTACH;FMTTYPE=image/png:https://www.peniche-marcounet.fr/wp-content/uploads/2025/12/13.01-1.png
END:VEVENT
BEGIN:VEVENT
DTSTART;TZID=Europe/Paris:20260110T193000
DTEND;TZID=Europe/Paris:20260110T213000
DTSTAMP:20260419T151504
CREATED:20251208T133401Z
LAST-MODIFIED:20251208T142124Z
UID:10000742-1768073400-1768080600@www.peniche-marcounet.fr
SUMMARY:109 - Capucine & Loryn Live
DESCRIPTION:Tellement d’artistes talentueux débutent dans l’industrie musicale\, prêts à tout casser avec des sons de fou ! Néanmoins assurer toute une soirée quand on est une formation récente\, c’est pas évident… C’est de la que nous est venue l’idée du 109\, du « sang neuf ». 🩸\nLe concept ? 2 jeunes talents\, 2 sets de 45 minutes\, et surtout une occasion de montrer à Paris de quoi elles/ils sont capables. 🌱 \nCAPUCINE : \nUne voix douce et profonde\, des mots à vif et cathartiques\, Capucine envoûte. Son univers\, aussi fragile qu’intense\, se distingue dans une mélancolie célébrant la vie et les côtés sombres de celle-ci. Initialement danseuse contemporaine\, elle trouve en la musique un exutoire quand celui du corps devint douleur. Capucine sculpte ainsi son identité entre sonorités synth et pop alternative. Par sa plume\, elle soigne. Elle soigne son âme et guérit les autres\, se fait voix des incompris et de leurs névroses. Ses influences se construisent de Charlotte Cardin à Jacques Brel\, de Billie Eilish à Stromae ou encore Solann. \nLORYN :  \nLoryn est une auteure\, compositrice\, interprète. Après 6 ans de carrière de comédienne\, elle se réinvente aujourd’hui à travers la musique. Une pop pétillante\, touchante\, qui met en avant des fragments de vie authentiques et sincères. Un projet neuf\, né en juin 2025\, qu’elle révèle pour la première fois sur scène. \n \n  \nConcert debout indie pop pop \n\n	\n\n		\n		\n		\n\n		\n\n		\n\n\n\n	Billets\n\n		\n	\n	\n		Les numéros ci-dessous incluent les billets pour cet événement déjà dans votre panier. En cliquant sur «Obtenir des billets»\, vous pourrez modifier toutes les informations existantes sur les participants ainsi que modifier les quantités de billets.	\n\n\n		\n\n	\n		\n				Majora - Release Party	\n\n\n\n	\n		\n		10\,00€			\n\n\n	\n\n\n	\n	\n\n\n	\n\n\n	\n						\n	Diminuer la quantité de billets pour Majora - Release Party\n	-\n				\n\n	\n		Quantité	\n	\n\n					\n	Augmenter la quantité de billets pour Majora - Release Party\n	+\n			\n\n	\n		\n	\n\n\n		\n\n	\n	\n	\n		Quantité :	\n	0\n\n\n	\n	\n		Total :	\n	\n		0\,00€	\n\n\n	\n	Réserver Billets
URL:https://www.peniche-marcounet.fr/event/109-capucine-loryn/
CATEGORIES:Concert debout,pop
ATTACH;FMTTYPE=image/jpeg:https://www.peniche-marcounet.fr/wp-content/uploads/2025/12/10.01.jpg
END:VEVENT
BEGIN:VEVENT
DTSTART;TZID=Europe/Paris:20260111T180000
DTEND;TZID=Europe/Paris:20260111T213000
DTSTAMP:20260419T151505
CREATED:20260105T155211Z
LAST-MODIFIED:20260105T155622Z
UID:10000770-1768154400-1768167000@www.peniche-marcounet.fr
SUMMARY:Monk Trio
DESCRIPTION:Né de la volonté d’adapter le grand pianiste Thelonious Monk à la guitare classique tout en restant jazz\, Leonida Fava arrange et peaufine un répertoire autour de la musique magique de Thelonious. Entouré de Gerardo Gunst à la batterie et d’Ivan Réchard à la contrebasse\, la guitare vient tisser un hommage original à notre héros américain ! \nMonk à la guitare classique ! \nLeonida Fava: guitare\nGerardo Gunst: batterie\nIvan Réchard :contrebasse \n18 sur place \nConcert debout indie pop pop \n\n	\n\n		\n		\n		\n\n		\n\n		\n\n\n\n	Billets\n\n		\n	\n	\n		Les numéros ci-dessous incluent les billets pour cet événement déjà dans votre panier. En cliquant sur «Obtenir des billets»\, vous pourrez modifier toutes les informations existantes sur les participants ainsi que modifier les quantités de billets.	\n\n\n		\n\n	\n		\n				Majora - Release Party	\n\n\n\n	\n		\n		10\,00€			\n\n\n	\n\n\n	\n	\n\n\n	\n\n\n	\n						\n	Diminuer la quantité de billets pour Majora - Release Party\n	-\n				\n\n	\n		Quantité	\n	\n\n					\n	Augmenter la quantité de billets pour Majora - Release Party\n	+\n			\n\n	\n		\n	\n\n\n		\n\n	\n	\n	\n		Quantité :	\n	0\n\n\n	\n	\n		Total :	\n	\n		0\,00€	\n\n\n	\n	Réserver Billets
URL:https://www.peniche-marcounet.fr/event/monk-trio/
CATEGORIES:Concert debout,Jazz,pop
ATTACH;FMTTYPE=image/png:https://www.peniche-marcounet.fr/wp-content/uploads/2026/01/insta-11.01-1.png
END:VEVENT
BEGIN:VEVENT
DTSTART;TZID=Europe/Paris:20260116T193000
DTEND;TZID=Europe/Paris:20260116T211500
DTSTAMP:20260419T151505
CREATED:20251204T145524Z
LAST-MODIFIED:20251205T103257Z
UID:10000741-1768591800-1768598100@www.peniche-marcounet.fr
SUMMARY:109 - Riva Sinistra & Fidji  100% Indie-Rock
DESCRIPTION:Tant d’artistes talentueux débutent dans l’industrie musicale\, prêts à tout casser avec des sons de fou ! Néanmoins assurer toute une soirée quand on est une formation récente\, c’est pas évident… C’est de la que nous est venue l’idée du 109\, du « sang neuf ». 🩸\nLe concept ? 2 jeunes talents\, 2 sets de 45 minutes\, et surtout une occasion de montrer à Paris de quoi elles/ils sont capables. 🌱 \nDans cette édition du 109 : \nRIVA SINISTRA :\nLes 3 influences : The Last Shadow Puppets\, The Smiths & François de Roubaix \nSi les Smiths avaient composé la BO d’un film de Dario Argento\, elle sonnerait peut-être comme Riva Sinistra. L’histoire raconte que la bande s’est rencontrée sur les pavés d’une rive gauche sombre\, guidés par l’appel d’une harpie.\nFuzz sur les guitares\, rythmes dansants\, mélodies entêtantes\, les codes de l’indie rock british sont bien là\, mais ils s’imprègnent d’influences cinématographiques qui collent à la peau. Ici de l’orgue Farfisa un brin cheesy\, là un interlude où transperce enfin la lumière. C’est avec ce juste équilibre de mystère et de candeur taquine que les cinq parisiens composent. \nAlec – Guitare/Choeurs\nMichael – Clavier/Choeurs\nSusan – Batterie\nÉtienne – Basse \nFIDJI :\nCette soirée plaira aux fans de… Arctic Monkeys\, FOALS\, et Franz Ferdinand. \nFIDJI fait son retour sur scène et dévoile de nouveaux morceaux aux sonorités plus mûres\, mêlant rock dansant et ambiances planantes. Cet été\, FIDJI a sorti « Morning Rain »\, un premier single solaire et introspectif\, qui annonce un EP à venir dans les prochains mois. Plus libre\, plus personnel\, FIDJI revient avec l’envie de partager cette nouvelle énergie en live.\n\nJey : Chant lead / guitare 2 / clavier\nXavier : Guitare lead\nThéo : Batterie / chant choeur\nRodrigo : Basse / chant choeur\n\n \n  \n \nBILLET SUR PLACE : 10€ \n  \nConcert debout indie pop pop \n\n	\n\n		\n		\n		\n\n		\n\n		\n\n\n\n	Billets\n\n		\n	\n	\n		Les numéros ci-dessous incluent les billets pour cet événement déjà dans votre panier. En cliquant sur «Obtenir des billets»\, vous pourrez modifier toutes les informations existantes sur les participants ainsi que modifier les quantités de billets.	\n\n\n		\n\n	\n		\n				Majora - Release Party	\n\n\n\n	\n		\n		10\,00€			\n\n\n	\n\n\n	\n	\n\n\n	\n\n\n	\n						\n	Diminuer la quantité de billets pour Majora - Release Party\n	-\n				\n\n	\n		Quantité	\n	\n\n					\n	Augmenter la quantité de billets pour Majora - Release Party\n	+\n			\n\n	\n		\n	\n\n\n		\n\n	\n	\n	\n		Quantité :	\n	0\n\n\n	\n	\n		Total :	\n	\n		0\,00€	\n\n\n	\n	Réserver Billets
URL:https://www.peniche-marcounet.fr/event/109-riva-sinistra-fidji/
CATEGORIES:Concert debout,Indie Rock,pop
ATTACH;FMTTYPE=image/png:https://www.peniche-marcounet.fr/wp-content/uploads/2025/12/16.01-1.png
END:VEVENT
BEGIN:VEVENT
DTSTART;TZID=Europe/Paris:20260123T200000
DTEND;TZID=Europe/Paris:20260123T213000
DTSTAMP:20260419T151505
CREATED:20251216T124310Z
LAST-MODIFIED:20260116T154729Z
UID:10000764-1769198400-1769203800@www.peniche-marcounet.fr
SUMMARY:Monte Crystal\, en première partie DJ LUKUS
DESCRIPTION:Monte Crystal est né sur les rives d’une pop Incisive et psychédélique. Inspiré d’Est en Ouest de Khruangbin ou encore Tame Impala à la différence près de la langue\, en français dans le texte\, pour rendre hommage aux origines du duo parisien. Claviers vaporeux\, basses rondes\, et guitares floydiennes\, le tout au service d’un groove planant\, aux touches funk et rock en alternance pour ne pas choisir. Le groupe parisien révèlera les premiers extraits de son nouvel EP à venir au printemps « Coté Jardin ». \nLe duo composé de Maxime Frerebeau et Paul Cattelat s’est entouré de musiciennes et musiciens talentueux pour arranger leurs compositions et les jouer sur scène à leurs côtés. Joan Pronnier (chanteuse de Lou de la Falaise) au chant\, Guillaume Kinziger à la guitare\, Cassandre Oosthoek (et son projet Cassandre) aux Claviers\, Théo Laurent (membre du projet Théodort) à la Batterie. \nEn 1ère partie\, le DJ LUKUS \nLukus\, 1/2 du duo srwn\, est un dj et producteur à la patte fine et à la garniture savoureuse.\nDisco\, jazz\, house\, funk.. tout y  passe\, et Lukus les enchaîne dans un rythme joueur à l’énergie captivante.\nEn bref\, de l’excellente musique\, et de très jolis pantalons. \n \n  \nSur place 10€ \n\n	\n\n		\n		\n		\n\n		\n\n		\n\n\n\n	Billets\n\n		\n	\n	\n		Les numéros ci-dessous incluent les billets pour cet événement déjà dans votre panier. En cliquant sur «Obtenir des billets»\, vous pourrez modifier toutes les informations existantes sur les participants ainsi que modifier les quantités de billets.	\n\n\n		\n\n	\n		\n				Majora - Release Party	\n\n\n\n	\n		\n		10\,00€			\n\n\n	\n\n\n	\n	\n\n\n	\n\n\n	\n						\n	Diminuer la quantité de billets pour Majora - Release Party\n	-\n				\n\n	\n		Quantité	\n	\n\n					\n	Augmenter la quantité de billets pour Majora - Release Party\n	+\n			\n\n	\n		\n	\n\n\n		\n\n	\n	\n	\n		Quantité :	\n	0\n\n\n	\n	\n		Total :	\n	\n		0\,00€	\n\n\n	\n	Réserver Billets\n\n\n\n		\n		\n	\n	\n\n	\n	\n\n	\n	\n\n\n\n			\n\n	\n\n\n\nConcert debout indie pop pop
URL:https://www.peniche-marcounet.fr/event/monte-crystal-lukus/
CATEGORIES:Concert debout,Disco,Funk,House,pop
ATTACH;FMTTYPE=image/jpeg:https://www.peniche-marcounet.fr/wp-content/uploads/2025/12/Photo-3-©Clemence-Demesme-scaled-1.jpg
END:VEVENT
BEGIN:VEVENT
DTSTART;TZID=Europe/Paris:20260131T190000
DTEND;TZID=Europe/Paris:20260131T210000
DTSTAMP:20260419T151505
CREATED:20260108T092743Z
LAST-MODIFIED:20260120T133033Z
UID:10000773-1769886000-1769893200@www.peniche-marcounet.fr
SUMMARY:109 - Galawesh &  Thomas Salvatore Live
DESCRIPTION:Tellement d’artistes talentueux débutent dans l’industrie musicale\, prêts à tout casser avec des sons de fou ! Néanmoins assurer toute une soirée quand on est une formation récente\, c’est pas évident… C’est de la que nous est venue l’idée du 109\, du « sang neuf ». 🩸\nLe concept ? 2 jeunes talents\, 2 sets de 45 minutes\, et surtout une occasion de montrer à Paris de quoi elles/ils sont capables. 🌱 \nGALAWESH : \n\nMon projet est un voyage musical composé avec différents producteurs\, où chaque morceau apporte sa propre couleur. J’aime décrire mon set comme une “salade de fruits” : des saveurs variées qui se répondent et s’enrichissent une fois réunies. On y retrouve des influences folk\, rock et électroniques. Toutes au service de textes qui parlent de bienveillance\, de soin de soi\, d’amour\, mais aussi de solitude et de ces zones d’ombre qui nous traversent tous. \n\nTHOMAS SALVATORE :  \nThomas Salvatore est l’une des figures montantes de la scène musicale actuelle. Claviériste\, chanteur et compositeur originaire de Quimper\, il développe un univers pop aux influences soul\, jazz\, funk et rock\, teinté d’une esthétique rétro-futuriste inspirée des années 2000.\nAux claviers\, il mêle pianos et orgues organiques\, synthés vintage et textures modernes\, porté par une voix pop-soul expressive. Influencé par des artistes comme Louis Cole\, Gorillaz\, Robert Glasper ou Cory Henry\, Thomas façonne une signature sonore personnelle\, à la croisée de la pop alternative et du groove contemporain.\n\n\nConcert debout indie pop pop \n\n	\n\n		\n		\n		\n\n		\n\n		\n\n\n\n	Billets\n\n		\n	\n	\n		Les numéros ci-dessous incluent les billets pour cet événement déjà dans votre panier. En cliquant sur «Obtenir des billets»\, vous pourrez modifier toutes les informations existantes sur les participants ainsi que modifier les quantités de billets.	\n\n\n		\n\n	\n		\n				Majora - Release Party	\n\n\n\n	\n		\n		10\,00€			\n\n\n	\n\n\n	\n	\n\n\n	\n\n\n	\n						\n	Diminuer la quantité de billets pour Majora - Release Party\n	-\n				\n\n	\n		Quantité	\n	\n\n					\n	Augmenter la quantité de billets pour Majora - Release Party\n	+\n			\n\n	\n		\n	\n\n\n		\n\n	\n	\n	\n		Quantité :	\n	0\n\n\n	\n	\n		Total :	\n	\n		0\,00€	\n\n\n	\n	Réserver Billets
URL:https://www.peniche-marcounet.fr/event/109-galawesh-thomas-salvatore-live/
CATEGORIES:Concert debout,electro,pop,Rock,Soul
ATTACH;FMTTYPE=image/png:https://www.peniche-marcounet.fr/wp-content/uploads/2026/01/10.01-1.png
END:VEVENT
END:VCALENDAR