BEGIN:VCALENDAR
VERSION:2.0
PRODID:-//Marcounet - ECPv6.15.20//NONSGML v1.0//EN
CALSCALE:GREGORIAN
METHOD:PUBLISH
X-WR-CALNAME:Marcounet
X-ORIGINAL-URL:https://www.peniche-marcounet.fr
X-WR-CALDESC:Évènements pour Marcounet
REFRESH-INTERVAL;VALUE=DURATION:PT1H
X-Robots-Tag:noindex
X-PUBLISHED-TTL:PT1H
BEGIN:VTIMEZONE
TZID:Europe/Paris
BEGIN:DAYLIGHT
TZOFFSETFROM:+0100
TZOFFSETTO:+0200
TZNAME:CEST
DTSTART:20240331T010000
END:DAYLIGHT
BEGIN:STANDARD
TZOFFSETFROM:+0200
TZOFFSETTO:+0100
TZNAME:CET
DTSTART:20241027T010000
END:STANDARD
BEGIN:DAYLIGHT
TZOFFSETFROM:+0100
TZOFFSETTO:+0200
TZNAME:CEST
DTSTART:20250330T010000
END:DAYLIGHT
BEGIN:STANDARD
TZOFFSETFROM:+0200
TZOFFSETTO:+0100
TZNAME:CET
DTSTART:20251026T010000
END:STANDARD
BEGIN:DAYLIGHT
TZOFFSETFROM:+0100
TZOFFSETTO:+0200
TZNAME:CEST
DTSTART:20260329T010000
END:DAYLIGHT
BEGIN:STANDARD
TZOFFSETFROM:+0200
TZOFFSETTO:+0100
TZNAME:CET
DTSTART:20261025T010000
END:STANDARD
END:VTIMEZONE
BEGIN:VEVENT
DTSTART;TZID=Europe/Paris:20251106T080000
DTEND;TZID=Europe/Paris:20251106T170000
DTSTAMP:20260419T191920
CREATED:20251106T141141Z
LAST-MODIFIED:20251106T141326Z
UID:10000725-1762416000-1762448400@www.peniche-marcounet.fr
SUMMARY:Monte Crystal  + Guest
DESCRIPTION:Présentation : Monte Crystal est né sur les rives d’une pop Incisive et psychédélique. Inspiré d’Est en Ouest de Khruangbin ou encore Tame Impala à la différence près de la langue\, en français dans le texte\, pour rendre hommage aux origines du duo parisien. Claviers vaporeux\, basses rondes\, et guitares floydiennes\, le tout au service d’un groove planant\, aux touches funk et rock en alternance pour ne pas choisir. Le groupe parisien révèlera les premiers extraits de son nouvel EP à venir au printemps « Coté Jardin ». \nLe duo composé de Maxime Frerebeau et Paul Cattelat s’est entouré de musiciennes et musiciens talentueux pour arranger leurs compositions et les jouer sur scène à leurs côtés. Joan Pronnier (chanteuse de Lou de la Falaise) au chant\, Guillaume Kinziger à la guitare\, Cassandre Oosthoek (et son projet Cassandre) aux Claviers\, Théo Laurent (membre du projet Théodort) à la Batterie. \nTarif sur place : 12€ \n \n\n	\n\n		\n		\n		\n\n		\n\n		\n\n\n\n	Billets\n\n		\n	\n	\n		Les numéros ci-dessous incluent les billets pour cet événement déjà dans votre panier. En cliquant sur «Obtenir des billets»\, vous pourrez modifier toutes les informations existantes sur les participants ainsi que modifier les quantités de billets.	\n\n\n		\n\n	\n		\n				Majora - Release Party	\n\n\n\n	\n		\n		10\,00€			\n\n\n	\n\n\n	\n	\n\n\n	\n\n\n	\n						\n	Diminuer la quantité de billets pour Majora - Release Party\n	-\n				\n\n	\n		Quantité	\n	\n\n					\n	Augmenter la quantité de billets pour Majora - Release Party\n	+\n			\n\n	\n		\n	\n\n\n		\n\n	\n	\n	\n		Quantité :	\n	0\n\n\n	\n	\n		Total :	\n	\n		0\,00€	\n\n\n	\n	Réserver Billets\n\n\n\n		\n		\n	\n	\n\n	\n	\n\n	\n	\n\n\n\n			\n\n	\n\n\n\nConcert debout indie pop pop
URL:https://www.peniche-marcounet.fr/event/11260/
CATEGORIES:Concert debout,electro,pop
ATTACH;FMTTYPE=image/png:https://www.peniche-marcounet.fr/wp-content/uploads/2025/11/insta-23.01-1.png
END:VEVENT
BEGIN:VEVENT
DTSTART;TZID=Europe/Paris:20251108T200000
DTEND;TZID=Europe/Paris:20251108T213000
DTSTAMP:20260419T191921
CREATED:20251024T083824Z
LAST-MODIFIED:20251027T103622Z
UID:10000713-1762632000-1762637400@www.peniche-marcounet.fr
SUMMARY:109 - Cactus Polychromes & Moth and the Firebrands
DESCRIPTION:Tant d’artistes talentueux débutent dans l’industrie musicale\, prêts à tout casser avec des sons de fou ! Néanmoins assurer toute une soirée quand on est une formation récente\, c’est pas évident… C’est de la que nous est venue l’idée du 109\, du « sang neuf ». 🩸\nLe concept ? 2 jeunes talents\, 2 sets de 45 minutes\, et surtout une occasion de montrer à Paris de quoi elles/ils sont capables. 🌱 \nDans cette édition du 109 : \n\n\n\n\nCactus Polychromes est un groupe d’Indie rock parisien\, fondé par Lucas et Orphée\, deux amis passionnés de guitare et d’écriture. Rejoints par Romeo à la basse et Apollinaire à la batterie\, ils enchaînent aussitôt une série de concerts dans des salles parisiennes comme la Java\, l’Armony\, le Truskel ou la Brasserie d’Orville. \nInspirés de The Strokes\, Arctic Monkeys ou Fontaines D.C.\, ils proposent du rock dansant et énergique.\nUn double single est à paraître courant 2026. \nDu rock piquant et plein de couleurs \n\n\n\n\n\nMoth & The Firebrands est un groupe de garage rock formé à la fin de l’année 2022. Porté par une poésie brutale en français\, leur musique puise autant dans le grunge de Soundgarden que dans les sonorités crasseuses et planantes du stoner\, à la manière de Queens of the Stone Age. MTF propose un univers puissant\, mystique et énergique\, où l’intensité musicale rencontre l’urgence des mots. Leurs trois premiers singles\, « Dealeur de spleen »\, « Damnés des Révoltes » et « Cervo Malade »\, dessinent les contours d’un monde pessimiste\, solitaire et désabusé\, reflet lucide de nos maux et de notre époque. \n\n\n\n\n\n\n\n \nConcert debout indie pop pop \n\n	\n\n		\n		\n		\n\n		\n\n		\n\n\n\n	Billets\n\n		\n	\n	\n		Les numéros ci-dessous incluent les billets pour cet événement déjà dans votre panier. En cliquant sur «Obtenir des billets»\, vous pourrez modifier toutes les informations existantes sur les participants ainsi que modifier les quantités de billets.	\n\n\n		\n\n	\n		\n				Majora - Release Party	\n\n\n\n	\n		\n		10\,00€			\n\n\n	\n\n\n	\n	\n\n\n	\n\n\n	\n						\n	Diminuer la quantité de billets pour Majora - Release Party\n	-\n				\n\n	\n		Quantité	\n	\n\n					\n	Augmenter la quantité de billets pour Majora - Release Party\n	+\n			\n\n	\n		\n	\n\n\n		\n\n	\n	\n	\n		Quantité :	\n	0\n\n\n	\n	\n		Total :	\n	\n		0\,00€	\n\n\n	\n	Réserver Billets
URL:https://www.peniche-marcounet.fr/event/109-cactus-polychromes-moth-and-the-firebrands/
CATEGORIES:Concert debout,Post punk,Rock
ATTACH;FMTTYPE=image/png:https://www.peniche-marcounet.fr/wp-content/uploads/2025/10/POST-INSTA-MARCOUNET-1080-x-1350-px-2.png
END:VEVENT
BEGIN:VEVENT
DTSTART;TZID=Europe/Paris:20251112T200000
DTEND;TZID=Europe/Paris:20251112T213000
DTSTAMP:20260419T191921
CREATED:20250815T094951Z
LAST-MODIFIED:20251022T110322Z
UID:10000664-1762977600-1762983000@www.peniche-marcounet.fr
SUMMARY:Tamarae
DESCRIPTION:Tamarae\, chanteuse\, guitariste et productrice basée à Paris\, crée des chansons introspectives et oniriques. Née aux Pays-Bas d’un père néerlandais et d’une mère hongroise originaire de Slovaquie\, sa musique mêle pop alternative\, soul et production éthérée pour créer un son qui reflète son parcours. Son EP 2024 « Dreams » (enregistré aux Studios Wisseloord) explore la vulnérabilité de l’ère pandémique\, suivi de tournées en Europe et de premières parties d’Alfa Mist. Précédemment\, son premier album « The Ocean Knows » (2022) a été diffusé sur BBC Jazz World. » \nSon EP 2024 ‘Dreams’ (enregistré aux Wisseloord Studios) explore la vulnérabilité de l’ère pandémique\, suivi de tournées en Europe et en première partie d’Alfa Mist. Précédemment\, son premier album ‘The Ocean Knows’ (2022) a été diffusé sur BBC Jazz World. \nTamarae\, voix et guitare\nIgnacio Santoro\, bass et sample machine \n  \nPRÉVENTE : 10€ (ci-dessous) \nTARIF SUR PLACE : 12€ \n\n	\n\n		\n		\n		\n\n		\n\n		\n\n\n\n	Billets\n\n		\n	\n	\n		Les numéros ci-dessous incluent les billets pour cet événement déjà dans votre panier. En cliquant sur «Obtenir des billets»\, vous pourrez modifier toutes les informations existantes sur les participants ainsi que modifier les quantités de billets.	\n\n\n		\n\n	\n		\n				Majora - Release Party	\n\n\n\n	\n		\n		10\,00€			\n\n\n	\n\n\n	\n	\n\n\n	\n\n\n	\n						\n	Diminuer la quantité de billets pour Majora - Release Party\n	-\n				\n\n	\n		Quantité	\n	\n\n					\n	Augmenter la quantité de billets pour Majora - Release Party\n	+\n			\n\n	\n		\n	\n\n\n		\n\n	\n	\n	\n		Quantité :	\n	0\n\n\n	\n	\n		Total :	\n	\n		0\,00€	\n\n\n	\n	Réserver Billets\n\n\n\n		\n		\n	\n	\n\n	\n	\n\n	\n	\n\n\n\n			\n\n	\n\n\n\nConcert debout indie pop pop
URL:https://www.peniche-marcounet.fr/event/tamarae/
CATEGORIES:Concert club,Concert debout,indie pop
ATTACH;FMTTYPE=image/png:https://www.peniche-marcounet.fr/wp-content/uploads/2025/08/insta.06.11.png
END:VEVENT
END:VCALENDAR