BEGIN:VCALENDAR
VERSION:2.0
PRODID:-//Marcounet - ECPv6.15.20//NONSGML v1.0//EN
CALSCALE:GREGORIAN
METHOD:PUBLISH
X-WR-CALNAME:Marcounet
X-ORIGINAL-URL:https://www.peniche-marcounet.fr
X-WR-CALDESC:Évènements pour Marcounet
REFRESH-INTERVAL;VALUE=DURATION:PT1H
X-Robots-Tag:noindex
X-PUBLISHED-TTL:PT1H
BEGIN:VTIMEZONE
TZID:Europe/Paris
BEGIN:DAYLIGHT
TZOFFSETFROM:+0100
TZOFFSETTO:+0200
TZNAME:CEST
DTSTART:20250330T010000
END:DAYLIGHT
BEGIN:STANDARD
TZOFFSETFROM:+0200
TZOFFSETTO:+0100
TZNAME:CET
DTSTART:20251026T010000
END:STANDARD
BEGIN:DAYLIGHT
TZOFFSETFROM:+0100
TZOFFSETTO:+0200
TZNAME:CEST
DTSTART:20260329T010000
END:DAYLIGHT
BEGIN:STANDARD
TZOFFSETFROM:+0200
TZOFFSETTO:+0100
TZNAME:CET
DTSTART:20261025T010000
END:STANDARD
BEGIN:DAYLIGHT
TZOFFSETFROM:+0100
TZOFFSETTO:+0200
TZNAME:CEST
DTSTART:20270328T010000
END:DAYLIGHT
BEGIN:STANDARD
TZOFFSETFROM:+0200
TZOFFSETTO:+0100
TZNAME:CET
DTSTART:20271031T010000
END:STANDARD
END:VTIMEZONE
BEGIN:VEVENT
DTSTART;TZID=Europe/Paris:20260422T200000
DTEND;TZID=Europe/Paris:20260422T220000
DTSTAMP:20260422T030022
CREATED:20260331T125126Z
LAST-MODIFIED:20260331T141410Z
UID:10000880-1776888000-1776895200@www.peniche-marcounet.fr
SUMMARY:109 - The Rock Boy & Grande Emma
DESCRIPTION:Tellement d’artistes talentueux débutent dans l’industrie musicale\, prêts à tout casser avec des sons de fou ! Néanmoins assurer toute une soirée quand on est une formation récente\, c’est pas évident… C’est de la que nous est venue l’idée du 109\, du « sang neuf ». 🩸\nLe concept ? 2 jeunes talents\, 2 sets de 45 minutes\, et surtout une occasion de montrer à Paris de quoi elles/ils sont capables. 🌱 \nThe Rock Boy\nThe Rock Boy est de retour. Des guitares puissantes\, une vision précise cachée par des lunettes flamboyantes … Porté par ses collaborateurs en live\, The Rock Boy c’est du rock pure mélangé à de l’indus. Un seul objectif\, t’immerger dans son univers et te faire passer un moment unique. Viens découvrir le futur du rock ! \nhttps://www.instagram.com/rockboy.music/ \nGrande Emma\nGRANDE EMMA est un projet musical et scénique qui explore le lien entre l’intime et le collectif. À travers des fragments de vie\, des scènes du quotidien et une écriture instinctive\, elle interroge : quelle place prend-on parmi les autres ?\nSon univers navigue entre vulnérabilité et ampleur\, mêlant acoustique organique\, textures électroniques et élans grandioses. Entre douceur et intensité\, elle compose des espaces où l’on se sent à la fois proche\, inclus\, et emporté.\nPensé comme une expérience sensible et chaleureuse\, GRANDE EMMA cherche l’essentiel : créer des moments suspendus\, vivants\, où l’émotion circule et rassemble. \nhttps://www.instagram.com/grande__emma/ \nTARIF SUR PLACE : 15€ \nConcert gratuit en terrasse Jazz
URL:https://www.peniche-marcounet.fr/event/the-rock-boy-grande-emma/
CATEGORIES:Concert debout,Rock
ATTACH;FMTTYPE=image/png:https://www.peniche-marcounet.fr/wp-content/uploads/2026/03/22.04-2.png
END:VEVENT
END:VCALENDAR