BEGIN:VCALENDAR
VERSION:2.0
PRODID:-//Marcounet - ECPv6.15.20//NONSGML v1.0//EN
CALSCALE:GREGORIAN
METHOD:PUBLISH
X-WR-CALNAME:Marcounet
X-ORIGINAL-URL:https://www.peniche-marcounet.fr
X-WR-CALDESC:Évènements pour Marcounet
REFRESH-INTERVAL;VALUE=DURATION:PT1H
X-Robots-Tag:noindex
X-PUBLISHED-TTL:PT1H
BEGIN:VTIMEZONE
TZID:Europe/Paris
BEGIN:DAYLIGHT
TZOFFSETFROM:+0100
TZOFFSETTO:+0200
TZNAME:CEST
DTSTART:20250330T010000
END:DAYLIGHT
BEGIN:STANDARD
TZOFFSETFROM:+0200
TZOFFSETTO:+0100
TZNAME:CET
DTSTART:20251026T010000
END:STANDARD
BEGIN:DAYLIGHT
TZOFFSETFROM:+0100
TZOFFSETTO:+0200
TZNAME:CEST
DTSTART:20260329T010000
END:DAYLIGHT
BEGIN:STANDARD
TZOFFSETFROM:+0200
TZOFFSETTO:+0100
TZNAME:CET
DTSTART:20261025T010000
END:STANDARD
BEGIN:DAYLIGHT
TZOFFSETFROM:+0100
TZOFFSETTO:+0200
TZNAME:CEST
DTSTART:20270328T010000
END:DAYLIGHT
BEGIN:STANDARD
TZOFFSETFROM:+0200
TZOFFSETTO:+0100
TZNAME:CET
DTSTART:20271031T010000
END:STANDARD
END:VTIMEZONE
BEGIN:VEVENT
DTSTART;TZID=Europe/Paris:20260421T200000
DTEND;TZID=Europe/Paris:20260421T220000
DTSTAMP:20260421T065852
CREATED:20260210T112549Z
LAST-MODIFIED:20260306T131636Z
UID:10000804-1776801600-1776808800@www.peniche-marcounet.fr
SUMMARY:MAJORA - Release Party
DESCRIPTION:Fruit de la rencontre de synthés visionnaires\, d’un groove hors pair et d’une voix magnétique\, MAJORA est un duo d’électro pop lyonnais aux accents disco\, psyché et brillamment rétro. Par leur musique\, les deux musicien·ne·s font miroiter des paysages dystopiques et enchanteurs\, nous emmenant\, avec eux\, sur des routes à la fois nouvelles et familières. Amoureux de la French Touch et de nu-disco\, MAJORA s’écrit — en français comme en anglais — d’une poésie onirique et visuelle. Aux défis du réel\, Alexis et Maeva confrontent une musique infusée de pop culture et de littérature. \nFormé en 2021 des suites d’un concert et d’une passion partagée pour Men I Trust\, MAJORA s’offrira son premier EP :  Embona. Un opus aux contours surréalistes qui permettra au duo de définir ensemble la couleur de son ciel musical. Quand MAJORA revient en 2024 avec Night Time Exit\, leur musique prend de l’ampleur : du home studio à Sample & Hold — studio de Johnny Carwash\, Claire Days notamment — la production s’envole. \nEn 2025\, MAJORA s’invite au catalogue de LaCouveuse — Ceylon\, Thérèse — d’Alex Monville et dévoile les premiers titres de Dérive & Rivage\, son nouvel EP qui verra sa publication en 2026. Un nouvel opus pour emmener sa pop mélancosolaire encore plus loin.\nDu rêve à la danse\, MAJORA s’affirme et vise désormais nos cœurs… les salles de concerts et les playlist avec un style\, un groove et un imaginaire qu’on a hâte de découvrir en live. \nMaeva – Voix lead & clavier\nAlexis – Voix chœurs\, synthés & guitare \n\nLa soirée sera clôturée par un DJ set à l’ambiance prog-house de divague\, fondateur du label Calage Nocturne. Ses sets glissent entre house et trance\, parfois avec une pointe d’acid. Progressif\, mental\, dansant. Toujours en mouvement.\nDécouvrir divague : https://soundcloud.com/divaguement\nSur place : 12 euros \n \n\nConcert gratuit en terrasse Jazz
URL:https://www.peniche-marcounet.fr/event/majora-release-party/
CATEGORIES:Concert debout,pop,Soirée Club
ATTACH;FMTTYPE=image/png:https://www.peniche-marcounet.fr/wp-content/uploads/2026/02/insta-21.04-1.png
END:VEVENT
END:VCALENDAR